BEGIN:VCALENDAR
VERSION:2.0
PRODID:-//NACA Inc. - Native Americans for Community Action - ECPv5.13.0//NONSGML v1.0//EN
CALSCALE:GREGORIAN
METHOD:PUBLISH
X-WR-CALNAME:NACA Inc. - Native Americans for Community Action
X-ORIGINAL-URL:https://nacainc.org
X-WR-CALDESC:Events for NACA Inc. - Native Americans for Community Action
REFRESH-INTERVAL;VALUE=DURATION:PT1H
X-Robots-Tag:noindex
X-PUBLISHED-TTL:PT1H
BEGIN:VTIMEZONE
TZID:UTC
BEGIN:STANDARD
TZOFFSETFROM:+0000
TZOFFSETTO:+0000
TZNAME:UTC
DTSTART:20270101T000000
END:STANDARD
END:VTIMEZONE
BEGIN:VEVENT
DTSTART;TZID=UTC:20270803T160000
DTEND;TZID=UTC:20270803T170000
DTSTAMP:20260423T104035
CREATED:20210628T200143Z
LAST-MODIFIED:20210628T200143Z
UID:15982-1817308800-1817312400@nacainc.org
SUMMARY:Domestic Violence Group #1
DESCRIPTION:
URL:https://nacainc.org/event/domestic-violence-group-1/2027-08-03/
CATEGORIES:Extended Services
END:VEVENT
BEGIN:VEVENT
DTSTART;TZID=UTC:20270804T160000
DTEND;TZID=UTC:20270804T170000
DTSTAMP:20260423T104035
CREATED:20210628T200143Z
LAST-MODIFIED:20210628T200143Z
UID:15986-1817395200-1817398800@nacainc.org
SUMMARY:Domestic Violence Group #1
DESCRIPTION:
URL:https://nacainc.org/event/domestic-violence-group-1/2027-08-04/
CATEGORIES:Extended Services
END:VEVENT
BEGIN:VEVENT
DTSTART;TZID=UTC:20270810T160000
DTEND;TZID=UTC:20270810T170000
DTSTAMP:20260423T104035
CREATED:20210628T200143Z
LAST-MODIFIED:20210628T200143Z
UID:16007-1817913600-1817917200@nacainc.org
SUMMARY:Domestic Violence Group #1
DESCRIPTION:
URL:https://nacainc.org/event/domestic-violence-group-1/2027-08-10/
CATEGORIES:Extended Services
END:VEVENT
BEGIN:VEVENT
DTSTART;TZID=UTC:20270811T160000
DTEND;TZID=UTC:20270811T170000
DTSTAMP:20260423T104035
CREATED:20210628T200143Z
LAST-MODIFIED:20210628T200143Z
UID:16011-1818000000-1818003600@nacainc.org
SUMMARY:Domestic Violence Group #1
DESCRIPTION:
URL:https://nacainc.org/event/domestic-violence-group-1/2027-08-11/
CATEGORIES:Extended Services
END:VEVENT
BEGIN:VEVENT
DTSTART;TZID=UTC:20270817T160000
DTEND;TZID=UTC:20270817T170000
DTSTAMP:20260423T104035
CREATED:20210628T200143Z
LAST-MODIFIED:20210628T200143Z
UID:16020-1818518400-1818522000@nacainc.org
SUMMARY:Domestic Violence Group #1
DESCRIPTION:
URL:https://nacainc.org/event/domestic-violence-group-1/2027-08-17/
CATEGORIES:Extended Services
END:VEVENT
BEGIN:VEVENT
DTSTART;TZID=UTC:20270818T160000
DTEND;TZID=UTC:20270818T170000
DTSTAMP:20260423T104035
CREATED:20210628T200143Z
LAST-MODIFIED:20210628T200143Z
UID:16025-1818604800-1818608400@nacainc.org
SUMMARY:Domestic Violence Group #1
DESCRIPTION:
URL:https://nacainc.org/event/domestic-violence-group-1/2027-08-18/
CATEGORIES:Extended Services
END:VEVENT
BEGIN:VEVENT
DTSTART;TZID=UTC:20270824T160000
DTEND;TZID=UTC:20270824T170000
DTSTAMP:20260423T104035
CREATED:20210628T200143Z
LAST-MODIFIED:20210628T200143Z
UID:16035-1819123200-1819126800@nacainc.org
SUMMARY:Domestic Violence Group #1
DESCRIPTION:
URL:https://nacainc.org/event/domestic-violence-group-1/2027-08-24/
CATEGORIES:Extended Services
END:VEVENT
BEGIN:VEVENT
DTSTART;TZID=UTC:20270825T160000
DTEND;TZID=UTC:20270825T170000
DTSTAMP:20260423T104035
CREATED:20210628T200143Z
LAST-MODIFIED:20210628T200143Z
UID:16039-1819209600-1819213200@nacainc.org
SUMMARY:Domestic Violence Group #1
DESCRIPTION:
URL:https://nacainc.org/event/domestic-violence-group-1/2027-08-25/
CATEGORIES:Extended Services
END:VEVENT
BEGIN:VEVENT
DTSTART;TZID=UTC:20270831T160000
DTEND;TZID=UTC:20270831T170000
DTSTAMP:20260423T104035
CREATED:20210628T200143Z
LAST-MODIFIED:20210628T200143Z
UID:16050-1819728000-1819731600@nacainc.org
SUMMARY:Domestic Violence Group #1
DESCRIPTION:
URL:https://nacainc.org/event/domestic-violence-group-1/2027-08-31/
CATEGORIES:Extended Services
END:VEVENT
BEGIN:VEVENT
DTSTART;TZID=UTC:20270901T160000
DTEND;TZID=UTC:20270901T170000
DTSTAMP:20260423T104035
CREATED:20210628T200143Z
LAST-MODIFIED:20210628T200143Z
UID:16057-1819814400-1819818000@nacainc.org
SUMMARY:Domestic Violence Group #1
DESCRIPTION:
URL:https://nacainc.org/event/domestic-violence-group-1/2027-09-01/
CATEGORIES:Extended Services
END:VEVENT
BEGIN:VEVENT
DTSTART;TZID=UTC:20270907T160000
DTEND;TZID=UTC:20270907T170000
DTSTAMP:20260423T104035
CREATED:20210628T200143Z
LAST-MODIFIED:20210628T200143Z
UID:16143-1820332800-1820336400@nacainc.org
SUMMARY:Domestic Violence Group #1
DESCRIPTION:
URL:https://nacainc.org/event/domestic-violence-group-1/2027-09-07/
CATEGORIES:Extended Services
END:VEVENT
BEGIN:VEVENT
DTSTART;TZID=UTC:20270908T160000
DTEND;TZID=UTC:20270908T170000
DTSTAMP:20260423T104035
CREATED:20210628T200143Z
LAST-MODIFIED:20210628T200143Z
UID:16147-1820419200-1820422800@nacainc.org
SUMMARY:Domestic Violence Group #1
DESCRIPTION:
URL:https://nacainc.org/event/domestic-violence-group-1/2027-09-08/
CATEGORIES:Extended Services
END:VEVENT
BEGIN:VEVENT
DTSTART;TZID=UTC:20270914T160000
DTEND;TZID=UTC:20270914T170000
DTSTAMP:20260423T104035
CREATED:20210628T200143Z
LAST-MODIFIED:20210628T200143Z
UID:16167-1820937600-1820941200@nacainc.org
SUMMARY:Domestic Violence Group #1
DESCRIPTION:
URL:https://nacainc.org/event/domestic-violence-group-1/2027-09-14/
CATEGORIES:Extended Services
END:VEVENT
BEGIN:VEVENT
DTSTART;TZID=UTC:20270915T160000
DTEND;TZID=UTC:20270915T170000
DTSTAMP:20260423T104035
CREATED:20210628T200143Z
LAST-MODIFIED:20210628T200143Z
UID:16171-1821024000-1821027600@nacainc.org
SUMMARY:Domestic Violence Group #1
DESCRIPTION:
URL:https://nacainc.org/event/domestic-violence-group-1/2027-09-15/
CATEGORIES:Extended Services
END:VEVENT
BEGIN:VEVENT
DTSTART;TZID=UTC:20270921T160000
DTEND;TZID=UTC:20270921T170000
DTSTAMP:20260423T104035
CREATED:20210628T200143Z
LAST-MODIFIED:20210628T200143Z
UID:16190-1821542400-1821546000@nacainc.org
SUMMARY:Domestic Violence Group #1
DESCRIPTION:
URL:https://nacainc.org/event/domestic-violence-group-1/2027-09-21/
CATEGORIES:Extended Services
END:VEVENT
BEGIN:VEVENT
DTSTART;TZID=UTC:20270922T160000
DTEND;TZID=UTC:20270922T170000
DTSTAMP:20260423T104035
CREATED:20210628T200143Z
LAST-MODIFIED:20210628T200143Z
UID:16194-1821628800-1821632400@nacainc.org
SUMMARY:Domestic Violence Group #1
DESCRIPTION:
URL:https://nacainc.org/event/domestic-violence-group-1/2027-09-22/
CATEGORIES:Extended Services
END:VEVENT
BEGIN:VEVENT
DTSTART;TZID=UTC:20270928T160000
DTEND;TZID=UTC:20270928T170000
DTSTAMP:20260423T104035
CREATED:20210628T200143Z
LAST-MODIFIED:20210628T200143Z
UID:16204-1822147200-1822150800@nacainc.org
SUMMARY:Domestic Violence Group #1
DESCRIPTION:
URL:https://nacainc.org/event/domestic-violence-group-1/2027-09-28/
CATEGORIES:Extended Services
END:VEVENT
BEGIN:VEVENT
DTSTART;TZID=UTC:20270929T160000
DTEND;TZID=UTC:20270929T170000
DTSTAMP:20260423T104035
CREATED:20210628T200143Z
LAST-MODIFIED:20210628T200143Z
UID:16208-1822233600-1822237200@nacainc.org
SUMMARY:Domestic Violence Group #1
DESCRIPTION:
URL:https://nacainc.org/event/domestic-violence-group-1/2027-09-29/
CATEGORIES:Extended Services
END:VEVENT
BEGIN:VEVENT
DTSTART;TZID=UTC:20271005T160000
DTEND;TZID=UTC:20271005T170000
DTSTAMP:20260423T104035
CREATED:20210628T200143Z
LAST-MODIFIED:20210628T200143Z
UID:16242-1822752000-1822755600@nacainc.org
SUMMARY:Domestic Violence Group #1
DESCRIPTION:
URL:https://nacainc.org/event/domestic-violence-group-1/2027-10-05/
CATEGORIES:Extended Services
END:VEVENT
BEGIN:VEVENT
DTSTART;TZID=UTC:20271006T160000
DTEND;TZID=UTC:20271006T170000
DTSTAMP:20260423T104035
CREATED:20210628T200143Z
LAST-MODIFIED:20210628T200143Z
UID:16249-1822838400-1822842000@nacainc.org
SUMMARY:Domestic Violence Group #1
DESCRIPTION:
URL:https://nacainc.org/event/domestic-violence-group-1/2027-10-06/
CATEGORIES:Extended Services
END:VEVENT
BEGIN:VEVENT
DTSTART;TZID=UTC:20271012T160000
DTEND;TZID=UTC:20271012T170000
DTSTAMP:20260423T104035
CREATED:20210628T200143Z
LAST-MODIFIED:20210628T200143Z
UID:16261-1823356800-1823360400@nacainc.org
SUMMARY:Domestic Violence Group #1
DESCRIPTION:
URL:https://nacainc.org/event/domestic-violence-group-1/2027-10-12/
CATEGORIES:Extended Services
END:VEVENT
BEGIN:VEVENT
DTSTART;TZID=UTC:20271013T160000
DTEND;TZID=UTC:20271013T170000
DTSTAMP:20260423T104035
CREATED:20210628T200143Z
LAST-MODIFIED:20210628T200143Z
UID:16265-1823443200-1823446800@nacainc.org
SUMMARY:Domestic Violence Group #1
DESCRIPTION:
URL:https://nacainc.org/event/domestic-violence-group-1/2027-10-13/
CATEGORIES:Extended Services
END:VEVENT
BEGIN:VEVENT
DTSTART;TZID=UTC:20271019T160000
DTEND;TZID=UTC:20271019T170000
DTSTAMP:20260423T104035
CREATED:20210628T200143Z
LAST-MODIFIED:20210628T200143Z
UID:16301-1823961600-1823965200@nacainc.org
SUMMARY:Domestic Violence Group #1
DESCRIPTION:
URL:https://nacainc.org/event/domestic-violence-group-1/2027-10-19/
CATEGORIES:Extended Services
END:VEVENT
BEGIN:VEVENT
DTSTART;TZID=UTC:20271020T160000
DTEND;TZID=UTC:20271020T170000
DTSTAMP:20260423T104035
CREATED:20210628T200143Z
LAST-MODIFIED:20210628T200143Z
UID:16305-1824048000-1824051600@nacainc.org
SUMMARY:Domestic Violence Group #1
DESCRIPTION:
URL:https://nacainc.org/event/domestic-violence-group-1/2027-10-20/
CATEGORIES:Extended Services
END:VEVENT
BEGIN:VEVENT
DTSTART;TZID=UTC:20271026T160000
DTEND;TZID=UTC:20271026T170000
DTSTAMP:20260423T104035
CREATED:20210628T200143Z
LAST-MODIFIED:20210628T200143Z
UID:16323-1824566400-1824570000@nacainc.org
SUMMARY:Domestic Violence Group #1
DESCRIPTION:
URL:https://nacainc.org/event/domestic-violence-group-1/2027-10-26/
CATEGORIES:Extended Services
END:VEVENT
BEGIN:VEVENT
DTSTART;TZID=UTC:20271027T160000
DTEND;TZID=UTC:20271027T170000
DTSTAMP:20260423T104035
CREATED:20210628T200143Z
LAST-MODIFIED:20210628T200143Z
UID:16330-1824652800-1824656400@nacainc.org
SUMMARY:Domestic Violence Group #1
DESCRIPTION:
URL:https://nacainc.org/event/domestic-violence-group-1/2027-10-27/
CATEGORIES:Extended Services
END:VEVENT
BEGIN:VEVENT
DTSTART;TZID=UTC:20271102T160000
DTEND;TZID=UTC:20271102T170000
DTSTAMP:20260423T104035
CREATED:20210628T200143Z
LAST-MODIFIED:20210628T200143Z
UID:16373-1825171200-1825174800@nacainc.org
SUMMARY:Domestic Violence Group #1
DESCRIPTION:
URL:https://nacainc.org/event/domestic-violence-group-1/2027-11-02/
CATEGORIES:Extended Services
END:VEVENT
BEGIN:VEVENT
DTSTART;TZID=UTC:20271103T160000
DTEND;TZID=UTC:20271103T170000
DTSTAMP:20260423T104035
CREATED:20210628T200143Z
LAST-MODIFIED:20210628T200143Z
UID:16378-1825257600-1825261200@nacainc.org
SUMMARY:Domestic Violence Group #1
DESCRIPTION:
URL:https://nacainc.org/event/domestic-violence-group-1/2027-11-03/
CATEGORIES:Extended Services
END:VEVENT
BEGIN:VEVENT
DTSTART;TZID=UTC:20271109T160000
DTEND;TZID=UTC:20271109T170000
DTSTAMP:20260423T104035
CREATED:20210628T200143Z
LAST-MODIFIED:20210628T200143Z
UID:16464-1825776000-1825779600@nacainc.org
SUMMARY:Domestic Violence Group #1
DESCRIPTION:
URL:https://nacainc.org/event/domestic-violence-group-1/2027-11-09/
CATEGORIES:Extended Services
END:VEVENT
BEGIN:VEVENT
DTSTART;TZID=UTC:20271110T160000
DTEND;TZID=UTC:20271110T170000
DTSTAMP:20260423T104035
CREATED:20210628T200143Z
LAST-MODIFIED:20210628T200143Z
UID:16469-1825862400-1825866000@nacainc.org
SUMMARY:Domestic Violence Group #1
DESCRIPTION:
URL:https://nacainc.org/event/domestic-violence-group-1/2027-11-10/
CATEGORIES:Extended Services
END:VEVENT
END:VCALENDAR