BEGIN:VCALENDAR
VERSION:2.0
PRODID:-//NACA Inc. - Native Americans for Community Action - ECPv5.13.0//NONSGML v1.0//EN
CALSCALE:GREGORIAN
METHOD:PUBLISH
X-WR-CALNAME:NACA Inc. - Native Americans for Community Action
X-ORIGINAL-URL:https://nacainc.org
X-WR-CALDESC:Events for NACA Inc. - Native Americans for Community Action
REFRESH-INTERVAL;VALUE=DURATION:PT1H
X-Robots-Tag:noindex
X-PUBLISHED-TTL:PT1H
BEGIN:VTIMEZONE
TZID:UTC
BEGIN:STANDARD
TZOFFSETFROM:+0000
TZOFFSETTO:+0000
TZNAME:UTC
DTSTART:20280101T000000
END:STANDARD
END:VTIMEZONE
BEGIN:VEVENT
DTSTART;TZID=UTC:20280229T160000
DTEND;TZID=UTC:20280229T170000
DTSTAMP:20260424T174655
CREATED:20210628T200143Z
LAST-MODIFIED:20210628T200143Z
UID:16894-1835452800-1835456400@nacainc.org
SUMMARY:Domestic Violence Group #1
DESCRIPTION:
URL:https://nacainc.org/event/domestic-violence-group-1/2028-02-29/
CATEGORIES:Extended Services
END:VEVENT
BEGIN:VEVENT
DTSTART;TZID=UTC:20280301T160000
DTEND;TZID=UTC:20280301T170000
DTSTAMP:20260424T174655
CREATED:20210628T200143Z
LAST-MODIFIED:20210628T200143Z
UID:16902-1835539200-1835542800@nacainc.org
SUMMARY:Domestic Violence Group #1
DESCRIPTION:
URL:https://nacainc.org/event/domestic-violence-group-1/2028-03-01/
CATEGORIES:Extended Services
END:VEVENT
BEGIN:VEVENT
DTSTART;TZID=UTC:20280307T160000
DTEND;TZID=UTC:20280307T170000
DTSTAMP:20260424T174655
CREATED:20210628T200143Z
LAST-MODIFIED:20210628T200143Z
UID:16916-1836057600-1836061200@nacainc.org
SUMMARY:Domestic Violence Group #1
DESCRIPTION:
URL:https://nacainc.org/event/domestic-violence-group-1/2028-03-07/
CATEGORIES:Extended Services
END:VEVENT
BEGIN:VEVENT
DTSTART;TZID=UTC:20280308T160000
DTEND;TZID=UTC:20280308T170000
DTSTAMP:20260424T174655
CREATED:20210628T200143Z
LAST-MODIFIED:20210628T200143Z
UID:16920-1836144000-1836147600@nacainc.org
SUMMARY:Domestic Violence Group #1
DESCRIPTION:
URL:https://nacainc.org/event/domestic-violence-group-1/2028-03-08/
CATEGORIES:Extended Services
END:VEVENT
BEGIN:VEVENT
DTSTART;TZID=UTC:20280314T160000
DTEND;TZID=UTC:20280314T170000
DTSTAMP:20260424T174655
CREATED:20210628T200143Z
LAST-MODIFIED:20210628T200143Z
UID:16933-1836662400-1836666000@nacainc.org
SUMMARY:Domestic Violence Group #1
DESCRIPTION:
URL:https://nacainc.org/event/domestic-violence-group-1/2028-03-14/
CATEGORIES:Extended Services
END:VEVENT
BEGIN:VEVENT
DTSTART;TZID=UTC:20280315T160000
DTEND;TZID=UTC:20280315T170000
DTSTAMP:20260424T174655
CREATED:20210628T200143Z
LAST-MODIFIED:20210628T200143Z
UID:16945-1836748800-1836752400@nacainc.org
SUMMARY:Domestic Violence Group #1
DESCRIPTION:
URL:https://nacainc.org/event/domestic-violence-group-1/2028-03-15/
CATEGORIES:Extended Services
END:VEVENT
BEGIN:VEVENT
DTSTART;TZID=UTC:20280321T160000
DTEND;TZID=UTC:20280321T170000
DTSTAMP:20260424T174655
CREATED:20210628T200143Z
LAST-MODIFIED:20210628T200143Z
UID:17041-1837267200-1837270800@nacainc.org
SUMMARY:Domestic Violence Group #1
DESCRIPTION:
URL:https://nacainc.org/event/domestic-violence-group-1/2028-03-21/
CATEGORIES:Extended Services
END:VEVENT
BEGIN:VEVENT
DTSTART;TZID=UTC:20280322T160000
DTEND;TZID=UTC:20280322T170000
DTSTAMP:20260424T174655
CREATED:20210628T200143Z
LAST-MODIFIED:20210628T200143Z
UID:17045-1837353600-1837357200@nacainc.org
SUMMARY:Domestic Violence Group #1
DESCRIPTION:
URL:https://nacainc.org/event/domestic-violence-group-1/2028-03-22/
CATEGORIES:Extended Services
END:VEVENT
BEGIN:VEVENT
DTSTART;TZID=UTC:20280328T160000
DTEND;TZID=UTC:20280328T170000
DTSTAMP:20260424T174655
CREATED:20210628T200143Z
LAST-MODIFIED:20210628T200143Z
UID:17058-1837872000-1837875600@nacainc.org
SUMMARY:Domestic Violence Group #1
DESCRIPTION:
URL:https://nacainc.org/event/domestic-violence-group-1/2028-03-28/
CATEGORIES:Extended Services
END:VEVENT
BEGIN:VEVENT
DTSTART;TZID=UTC:20280329T160000
DTEND;TZID=UTC:20280329T170000
DTSTAMP:20260424T174655
CREATED:20210628T200143Z
LAST-MODIFIED:20210628T200143Z
UID:17063-1837958400-1837962000@nacainc.org
SUMMARY:Domestic Violence Group #1
DESCRIPTION:
URL:https://nacainc.org/event/domestic-violence-group-1/2028-03-29/
CATEGORIES:Extended Services
END:VEVENT
BEGIN:VEVENT
DTSTART;TZID=UTC:20280404T160000
DTEND;TZID=UTC:20280404T170000
DTSTAMP:20260424T174655
CREATED:20210628T200143Z
LAST-MODIFIED:20210628T200143Z
UID:17111-1838476800-1838480400@nacainc.org
SUMMARY:Domestic Violence Group #1
DESCRIPTION:
URL:https://nacainc.org/event/domestic-violence-group-1/2028-04-04/
CATEGORIES:Extended Services
END:VEVENT
BEGIN:VEVENT
DTSTART;TZID=UTC:20280405T160000
DTEND;TZID=UTC:20280405T170000
DTSTAMP:20260424T174655
CREATED:20210628T200143Z
LAST-MODIFIED:20210628T200143Z
UID:17116-1838563200-1838566800@nacainc.org
SUMMARY:Domestic Violence Group #1
DESCRIPTION:
URL:https://nacainc.org/event/domestic-violence-group-1/2028-04-05/
CATEGORIES:Extended Services
END:VEVENT
BEGIN:VEVENT
DTSTART;TZID=UTC:20280411T160000
DTEND;TZID=UTC:20280411T170000
DTSTAMP:20260424T174655
CREATED:20210628T200143Z
LAST-MODIFIED:20210628T200143Z
UID:17218-1839081600-1839085200@nacainc.org
SUMMARY:Domestic Violence Group #1
DESCRIPTION:
URL:https://nacainc.org/event/domestic-violence-group-1/2028-04-11/
CATEGORIES:Extended Services
END:VEVENT
BEGIN:VEVENT
DTSTART;TZID=UTC:20280412T160000
DTEND;TZID=UTC:20280412T170000
DTSTAMP:20260424T174655
CREATED:20210628T200143Z
LAST-MODIFIED:20210628T200143Z
UID:17229-1839168000-1839171600@nacainc.org
SUMMARY:Domestic Violence Group #1
DESCRIPTION:
URL:https://nacainc.org/event/domestic-violence-group-1/2028-04-12/
CATEGORIES:Extended Services
END:VEVENT
BEGIN:VEVENT
DTSTART;TZID=UTC:20280418T160000
DTEND;TZID=UTC:20280418T170000
DTSTAMP:20260424T174655
CREATED:20210628T200143Z
LAST-MODIFIED:20210628T200143Z
UID:17339-1839686400-1839690000@nacainc.org
SUMMARY:Domestic Violence Group #1
DESCRIPTION:
URL:https://nacainc.org/event/domestic-violence-group-1/2028-04-18/
CATEGORIES:Extended Services
END:VEVENT
BEGIN:VEVENT
DTSTART;TZID=UTC:20280419T160000
DTEND;TZID=UTC:20280419T170000
DTSTAMP:20260424T174655
CREATED:20210628T200143Z
LAST-MODIFIED:20210628T200143Z
UID:17343-1839772800-1839776400@nacainc.org
SUMMARY:Domestic Violence Group #1
DESCRIPTION:
URL:https://nacainc.org/event/domestic-violence-group-1/2028-04-19/
CATEGORIES:Extended Services
END:VEVENT
END:VCALENDAR