BEGIN:VCALENDAR
VERSION:2.0
PRODID:-//NACA Inc. - Native Americans for Community Action - ECPv5.13.0//NONSGML v1.0//EN
CALSCALE:GREGORIAN
METHOD:PUBLISH
X-WR-CALNAME:NACA Inc. - Native Americans for Community Action
X-ORIGINAL-URL:https://nacainc.org
X-WR-CALDESC:Events for NACA Inc. - Native Americans for Community Action
REFRESH-INTERVAL;VALUE=DURATION:PT1H
X-Robots-Tag:noindex
X-PUBLISHED-TTL:PT1H
BEGIN:VTIMEZONE
TZID:UTC
BEGIN:STANDARD
TZOFFSETFROM:+0000
TZOFFSETTO:+0000
TZNAME:UTC
DTSTART:20280101T000000
END:STANDARD
END:VTIMEZONE
BEGIN:VEVENT
DTSTART;TZID=UTC:20280411T160000
DTEND;TZID=UTC:20280411T170000
DTSTAMP:20260425T023019
CREATED:20210628T200143Z
LAST-MODIFIED:20210628T200143Z
UID:17218-1839081600-1839085200@nacainc.org
SUMMARY:Domestic Violence Group #1
DESCRIPTION:
URL:https://nacainc.org/event/domestic-violence-group-1/2028-04-11/
CATEGORIES:Extended Services
END:VEVENT
BEGIN:VEVENT
DTSTART;TZID=UTC:20280412T160000
DTEND;TZID=UTC:20280412T170000
DTSTAMP:20260425T023019
CREATED:20210628T200143Z
LAST-MODIFIED:20210628T200143Z
UID:17229-1839168000-1839171600@nacainc.org
SUMMARY:Domestic Violence Group #1
DESCRIPTION:
URL:https://nacainc.org/event/domestic-violence-group-1/2028-04-12/
CATEGORIES:Extended Services
END:VEVENT
BEGIN:VEVENT
DTSTART;TZID=UTC:20280418T160000
DTEND;TZID=UTC:20280418T170000
DTSTAMP:20260425T023019
CREATED:20210628T200143Z
LAST-MODIFIED:20210628T200143Z
UID:17339-1839686400-1839690000@nacainc.org
SUMMARY:Domestic Violence Group #1
DESCRIPTION:
URL:https://nacainc.org/event/domestic-violence-group-1/2028-04-18/
CATEGORIES:Extended Services
END:VEVENT
BEGIN:VEVENT
DTSTART;TZID=UTC:20280419T160000
DTEND;TZID=UTC:20280419T170000
DTSTAMP:20260425T023019
CREATED:20210628T200143Z
LAST-MODIFIED:20210628T200143Z
UID:17343-1839772800-1839776400@nacainc.org
SUMMARY:Domestic Violence Group #1
DESCRIPTION:
URL:https://nacainc.org/event/domestic-violence-group-1/2028-04-19/
CATEGORIES:Extended Services
END:VEVENT
END:VCALENDAR