BEGIN:VCALENDAR
VERSION:2.0
PRODID:-//NACA Inc. - Native Americans for Community Action - ECPv5.13.0//NONSGML v1.0//EN
CALSCALE:GREGORIAN
METHOD:PUBLISH
X-WR-CALNAME:NACA Inc. - Native Americans for Community Action
X-ORIGINAL-URL:https://nacainc.org
X-WR-CALDESC:Events for NACA Inc. - Native Americans for Community Action
REFRESH-INTERVAL;VALUE=DURATION:PT1H
X-Robots-Tag:noindex
X-PUBLISHED-TTL:PT1H
BEGIN:VTIMEZONE
TZID:UTC
BEGIN:STANDARD
TZOFFSETFROM:+0000
TZOFFSETTO:+0000
TZNAME:UTC
DTSTART:20270101T000000
END:STANDARD
END:VTIMEZONE
BEGIN:VEVENT
DTSTART;TZID=UTC:20270507T150000
DTEND;TZID=UTC:20270507T160000
DTSTAMP:20260422T012909
CREATED:20210628T203642Z
LAST-MODIFIED:20210628T203642Z
UID:15554-1809702000-1809705600@nacainc.org
SUMMARY:Relapse Prevention
DESCRIPTION:
URL:https://nacainc.org/event/relapse-prevention/2027-05-07/
CATEGORIES:Substance Abuse
END:VEVENT
BEGIN:VEVENT
DTSTART;TZID=UTC:20270510T150000
DTEND;TZID=UTC:20270510T160000
DTSTAMP:20260422T012909
CREATED:20210628T203642Z
LAST-MODIFIED:20210628T203642Z
UID:15558-1809961200-1809964800@nacainc.org
SUMMARY:Relapse Prevention
DESCRIPTION:
URL:https://nacainc.org/event/relapse-prevention/2027-05-10/
CATEGORIES:Substance Abuse
END:VEVENT
BEGIN:VEVENT
DTSTART;TZID=UTC:20270514T150000
DTEND;TZID=UTC:20270514T160000
DTSTAMP:20260422T012909
CREATED:20210628T203642Z
LAST-MODIFIED:20210628T203642Z
UID:15575-1810306800-1810310400@nacainc.org
SUMMARY:Relapse Prevention
DESCRIPTION:
URL:https://nacainc.org/event/relapse-prevention/2027-05-14/
CATEGORIES:Substance Abuse
END:VEVENT
BEGIN:VEVENT
DTSTART;TZID=UTC:20270517T150000
DTEND;TZID=UTC:20270517T160000
DTSTAMP:20260422T012909
CREATED:20210628T203642Z
LAST-MODIFIED:20210628T203642Z
UID:15578-1810566000-1810569600@nacainc.org
SUMMARY:Relapse Prevention
DESCRIPTION:
URL:https://nacainc.org/event/relapse-prevention/2027-05-17/
CATEGORIES:Substance Abuse
END:VEVENT
BEGIN:VEVENT
DTSTART;TZID=UTC:20270521T150000
DTEND;TZID=UTC:20270521T160000
DTSTAMP:20260422T012909
CREATED:20210628T203642Z
LAST-MODIFIED:20210628T203642Z
UID:15593-1810911600-1810915200@nacainc.org
SUMMARY:Relapse Prevention
DESCRIPTION:
URL:https://nacainc.org/event/relapse-prevention/2027-05-21/
CATEGORIES:Substance Abuse
END:VEVENT
BEGIN:VEVENT
DTSTART;TZID=UTC:20270524T150000
DTEND;TZID=UTC:20270524T160000
DTSTAMP:20260422T012909
CREATED:20210628T203642Z
LAST-MODIFIED:20210628T203642Z
UID:15596-1811170800-1811174400@nacainc.org
SUMMARY:Relapse Prevention
DESCRIPTION:
URL:https://nacainc.org/event/relapse-prevention/2027-05-24/
CATEGORIES:Substance Abuse
END:VEVENT
BEGIN:VEVENT
DTSTART;TZID=UTC:20270528T150000
DTEND;TZID=UTC:20270528T160000
DTSTAMP:20260422T012909
CREATED:20210628T203642Z
LAST-MODIFIED:20210628T203642Z
UID:15607-1811516400-1811520000@nacainc.org
SUMMARY:Relapse Prevention
DESCRIPTION:
URL:https://nacainc.org/event/relapse-prevention/2027-05-28/
CATEGORIES:Substance Abuse
END:VEVENT
BEGIN:VEVENT
DTSTART;TZID=UTC:20270531T150000
DTEND;TZID=UTC:20270531T160000
DTSTAMP:20260422T012909
CREATED:20210628T203642Z
LAST-MODIFIED:20210628T203642Z
UID:15610-1811775600-1811779200@nacainc.org
SUMMARY:Relapse Prevention
DESCRIPTION:
URL:https://nacainc.org/event/relapse-prevention/2027-05-31/
CATEGORIES:Substance Abuse
END:VEVENT
BEGIN:VEVENT
DTSTART;TZID=UTC:20270604T150000
DTEND;TZID=UTC:20270604T160000
DTSTAMP:20260422T012909
CREATED:20210628T203642Z
LAST-MODIFIED:20210628T203642Z
UID:15652-1812121200-1812124800@nacainc.org
SUMMARY:Relapse Prevention
DESCRIPTION:
URL:https://nacainc.org/event/relapse-prevention/2027-06-04/
CATEGORIES:Substance Abuse
END:VEVENT
BEGIN:VEVENT
DTSTART;TZID=UTC:20270607T150000
DTEND;TZID=UTC:20270607T160000
DTSTAMP:20260422T012909
CREATED:20210628T203642Z
LAST-MODIFIED:20210628T203642Z
UID:15655-1812380400-1812384000@nacainc.org
SUMMARY:Relapse Prevention
DESCRIPTION:
URL:https://nacainc.org/event/relapse-prevention/2027-06-07/
CATEGORIES:Substance Abuse
END:VEVENT
BEGIN:VEVENT
DTSTART;TZID=UTC:20270611T150000
DTEND;TZID=UTC:20270611T160000
DTSTAMP:20260422T012909
CREATED:20210628T203642Z
LAST-MODIFIED:20210628T203642Z
UID:15741-1812726000-1812729600@nacainc.org
SUMMARY:Relapse Prevention
DESCRIPTION:
URL:https://nacainc.org/event/relapse-prevention/2027-06-11/
CATEGORIES:Substance Abuse
END:VEVENT
BEGIN:VEVENT
DTSTART;TZID=UTC:20270614T150000
DTEND;TZID=UTC:20270614T160000
DTSTAMP:20260422T012909
CREATED:20210628T203642Z
LAST-MODIFIED:20210628T203642Z
UID:15848-1812985200-1812988800@nacainc.org
SUMMARY:Relapse Prevention
DESCRIPTION:
URL:https://nacainc.org/event/relapse-prevention/2027-06-14/
CATEGORIES:Substance Abuse
END:VEVENT
BEGIN:VEVENT
DTSTART;TZID=UTC:20270618T150000
DTEND;TZID=UTC:20270618T160000
DTSTAMP:20260422T012909
CREATED:20210628T203642Z
LAST-MODIFIED:20210628T203642Z
UID:15858-1813330800-1813334400@nacainc.org
SUMMARY:Relapse Prevention
DESCRIPTION:
URL:https://nacainc.org/event/relapse-prevention/2027-06-18/
CATEGORIES:Substance Abuse
END:VEVENT
BEGIN:VEVENT
DTSTART;TZID=UTC:20270621T150000
DTEND;TZID=UTC:20270621T160000
DTSTAMP:20260422T012909
CREATED:20210628T203642Z
LAST-MODIFIED:20210628T203642Z
UID:15862-1813590000-1813593600@nacainc.org
SUMMARY:Relapse Prevention
DESCRIPTION:
URL:https://nacainc.org/event/relapse-prevention/2027-06-21/
CATEGORIES:Substance Abuse
END:VEVENT
BEGIN:VEVENT
DTSTART;TZID=UTC:20270625T150000
DTEND;TZID=UTC:20270625T160000
DTSTAMP:20260422T012909
CREATED:20210628T203642Z
LAST-MODIFIED:20210628T203642Z
UID:15880-1813935600-1813939200@nacainc.org
SUMMARY:Relapse Prevention
DESCRIPTION:
URL:https://nacainc.org/event/relapse-prevention/2027-06-25/
CATEGORIES:Substance Abuse
END:VEVENT
BEGIN:VEVENT
DTSTART;TZID=UTC:20270628T150000
DTEND;TZID=UTC:20270628T160000
DTSTAMP:20260422T012909
CREATED:20210628T203642Z
LAST-MODIFIED:20210628T203642Z
UID:15883-1814194800-1814198400@nacainc.org
SUMMARY:Relapse Prevention
DESCRIPTION:
URL:https://nacainc.org/event/relapse-prevention/2027-06-28/
CATEGORIES:Substance Abuse
END:VEVENT
BEGIN:VEVENT
DTSTART;TZID=UTC:20270702T150000
DTEND;TZID=UTC:20270702T160000
DTSTAMP:20260422T012909
CREATED:20210628T203642Z
LAST-MODIFIED:20210628T203642Z
UID:15908-1814540400-1814544000@nacainc.org
SUMMARY:Relapse Prevention
DESCRIPTION:
URL:https://nacainc.org/event/relapse-prevention/2027-07-02/
CATEGORIES:Substance Abuse
END:VEVENT
BEGIN:VEVENT
DTSTART;TZID=UTC:20270705T150000
DTEND;TZID=UTC:20270705T160000
DTSTAMP:20260422T012909
CREATED:20210628T203642Z
LAST-MODIFIED:20210628T203642Z
UID:15915-1814799600-1814803200@nacainc.org
SUMMARY:Relapse Prevention
DESCRIPTION:
URL:https://nacainc.org/event/relapse-prevention/2027-07-05/
CATEGORIES:Substance Abuse
END:VEVENT
BEGIN:VEVENT
DTSTART;TZID=UTC:20270709T150000
DTEND;TZID=UTC:20270709T160000
DTSTAMP:20260422T012909
CREATED:20210628T203642Z
LAST-MODIFIED:20210628T203642Z
UID:15932-1815145200-1815148800@nacainc.org
SUMMARY:Relapse Prevention
DESCRIPTION:
URL:https://nacainc.org/event/relapse-prevention/2027-07-09/
CATEGORIES:Substance Abuse
END:VEVENT
BEGIN:VEVENT
DTSTART;TZID=UTC:20270712T150000
DTEND;TZID=UTC:20270712T160000
DTSTAMP:20260422T012909
CREATED:20210628T203642Z
LAST-MODIFIED:20210628T203642Z
UID:15935-1815404400-1815408000@nacainc.org
SUMMARY:Relapse Prevention
DESCRIPTION:
URL:https://nacainc.org/event/relapse-prevention/2027-07-12/
CATEGORIES:Substance Abuse
END:VEVENT
BEGIN:VEVENT
DTSTART;TZID=UTC:20270716T150000
DTEND;TZID=UTC:20270716T160000
DTSTAMP:20260422T012909
CREATED:20210628T203642Z
LAST-MODIFIED:20210628T203642Z
UID:15947-1815750000-1815753600@nacainc.org
SUMMARY:Relapse Prevention
DESCRIPTION:
URL:https://nacainc.org/event/relapse-prevention/2027-07-16/
CATEGORIES:Substance Abuse
END:VEVENT
BEGIN:VEVENT
DTSTART;TZID=UTC:20270719T150000
DTEND;TZID=UTC:20270719T160000
DTSTAMP:20260422T012909
CREATED:20210628T203642Z
LAST-MODIFIED:20210628T203642Z
UID:15950-1816009200-1816012800@nacainc.org
SUMMARY:Relapse Prevention
DESCRIPTION:
URL:https://nacainc.org/event/relapse-prevention/2027-07-19/
CATEGORIES:Substance Abuse
END:VEVENT
BEGIN:VEVENT
DTSTART;TZID=UTC:20270723T150000
DTEND;TZID=UTC:20270723T160000
DTSTAMP:20260422T012909
CREATED:20210628T203642Z
LAST-MODIFIED:20210628T203642Z
UID:15961-1816354800-1816358400@nacainc.org
SUMMARY:Relapse Prevention
DESCRIPTION:
URL:https://nacainc.org/event/relapse-prevention/2027-07-23/
CATEGORIES:Substance Abuse
END:VEVENT
BEGIN:VEVENT
DTSTART;TZID=UTC:20270726T150000
DTEND;TZID=UTC:20270726T160000
DTSTAMP:20260422T012909
CREATED:20210628T203642Z
LAST-MODIFIED:20210628T203642Z
UID:15964-1816614000-1816617600@nacainc.org
SUMMARY:Relapse Prevention
DESCRIPTION:
URL:https://nacainc.org/event/relapse-prevention/2027-07-26/
CATEGORIES:Substance Abuse
END:VEVENT
BEGIN:VEVENT
DTSTART;TZID=UTC:20270730T150000
DTEND;TZID=UTC:20270730T160000
DTSTAMP:20260422T012909
CREATED:20210628T203642Z
LAST-MODIFIED:20210628T203642Z
UID:15974-1816959600-1816963200@nacainc.org
SUMMARY:Relapse Prevention
DESCRIPTION:
URL:https://nacainc.org/event/relapse-prevention/2027-07-30/
CATEGORIES:Substance Abuse
END:VEVENT
BEGIN:VEVENT
DTSTART;TZID=UTC:20270802T150000
DTEND;TZID=UTC:20270802T160000
DTSTAMP:20260422T012909
CREATED:20210628T203642Z
LAST-MODIFIED:20210628T203642Z
UID:15981-1817218800-1817222400@nacainc.org
SUMMARY:Relapse Prevention
DESCRIPTION:
URL:https://nacainc.org/event/relapse-prevention/2027-08-02/
CATEGORIES:Substance Abuse
END:VEVENT
BEGIN:VEVENT
DTSTART;TZID=UTC:20270806T150000
DTEND;TZID=UTC:20270806T160000
DTSTAMP:20260422T012909
CREATED:20210628T203642Z
LAST-MODIFIED:20210628T203642Z
UID:16000-1817564400-1817568000@nacainc.org
SUMMARY:Relapse Prevention
DESCRIPTION:
URL:https://nacainc.org/event/relapse-prevention/2027-08-06/
CATEGORIES:Substance Abuse
END:VEVENT
BEGIN:VEVENT
DTSTART;TZID=UTC:20270809T150000
DTEND;TZID=UTC:20270809T160000
DTSTAMP:20260422T012909
CREATED:20210628T203642Z
LAST-MODIFIED:20210628T203642Z
UID:16005-1817823600-1817827200@nacainc.org
SUMMARY:Relapse Prevention
DESCRIPTION:
URL:https://nacainc.org/event/relapse-prevention/2027-08-09/
CATEGORIES:Substance Abuse
END:VEVENT
BEGIN:VEVENT
DTSTART;TZID=UTC:20270813T150000
DTEND;TZID=UTC:20270813T160000
DTSTAMP:20260422T012909
CREATED:20210628T203642Z
LAST-MODIFIED:20210628T203642Z
UID:16016-1818169200-1818172800@nacainc.org
SUMMARY:Relapse Prevention
DESCRIPTION:
URL:https://nacainc.org/event/relapse-prevention/2027-08-13/
CATEGORIES:Substance Abuse
END:VEVENT
BEGIN:VEVENT
DTSTART;TZID=UTC:20270816T150000
DTEND;TZID=UTC:20270816T160000
DTSTAMP:20260422T012909
CREATED:20210628T203642Z
LAST-MODIFIED:20210628T203642Z
UID:16019-1818428400-1818432000@nacainc.org
SUMMARY:Relapse Prevention
DESCRIPTION:
URL:https://nacainc.org/event/relapse-prevention/2027-08-16/
CATEGORIES:Substance Abuse
END:VEVENT
END:VCALENDAR