BEGIN:VCALENDAR
VERSION:2.0
PRODID:-//NACA Inc. - Native Americans for Community Action - ECPv5.13.0//NONSGML v1.0//EN
CALSCALE:GREGORIAN
METHOD:PUBLISH
X-WR-CALNAME:NACA Inc. - Native Americans for Community Action
X-ORIGINAL-URL:https://nacainc.org
X-WR-CALDESC:Events for NACA Inc. - Native Americans for Community Action
REFRESH-INTERVAL;VALUE=DURATION:PT1H
X-Robots-Tag:noindex
X-PUBLISHED-TTL:PT1H
BEGIN:VTIMEZONE
TZID:UTC
BEGIN:STANDARD
TZOFFSETFROM:+0000
TZOFFSETTO:+0000
TZNAME:UTC
DTSTART:20270101T000000
END:STANDARD
END:VTIMEZONE
BEGIN:VEVENT
DTSTART;TZID=UTC:20270730T150000
DTEND;TZID=UTC:20270730T160000
DTSTAMP:20260422T040535
CREATED:20210628T203642Z
LAST-MODIFIED:20210628T203642Z
UID:15974-1816959600-1816963200@nacainc.org
SUMMARY:Relapse Prevention
DESCRIPTION:
URL:https://nacainc.org/event/relapse-prevention/2027-07-30/
CATEGORIES:Substance Abuse
END:VEVENT
BEGIN:VEVENT
DTSTART;TZID=UTC:20270802T150000
DTEND;TZID=UTC:20270802T160000
DTSTAMP:20260422T040535
CREATED:20210628T203642Z
LAST-MODIFIED:20210628T203642Z
UID:15981-1817218800-1817222400@nacainc.org
SUMMARY:Relapse Prevention
DESCRIPTION:
URL:https://nacainc.org/event/relapse-prevention/2027-08-02/
CATEGORIES:Substance Abuse
END:VEVENT
BEGIN:VEVENT
DTSTART;TZID=UTC:20270806T150000
DTEND;TZID=UTC:20270806T160000
DTSTAMP:20260422T040535
CREATED:20210628T203642Z
LAST-MODIFIED:20210628T203642Z
UID:16000-1817564400-1817568000@nacainc.org
SUMMARY:Relapse Prevention
DESCRIPTION:
URL:https://nacainc.org/event/relapse-prevention/2027-08-06/
CATEGORIES:Substance Abuse
END:VEVENT
BEGIN:VEVENT
DTSTART;TZID=UTC:20270809T150000
DTEND;TZID=UTC:20270809T160000
DTSTAMP:20260422T040535
CREATED:20210628T203642Z
LAST-MODIFIED:20210628T203642Z
UID:16005-1817823600-1817827200@nacainc.org
SUMMARY:Relapse Prevention
DESCRIPTION:
URL:https://nacainc.org/event/relapse-prevention/2027-08-09/
CATEGORIES:Substance Abuse
END:VEVENT
BEGIN:VEVENT
DTSTART;TZID=UTC:20270813T150000
DTEND;TZID=UTC:20270813T160000
DTSTAMP:20260422T040535
CREATED:20210628T203642Z
LAST-MODIFIED:20210628T203642Z
UID:16016-1818169200-1818172800@nacainc.org
SUMMARY:Relapse Prevention
DESCRIPTION:
URL:https://nacainc.org/event/relapse-prevention/2027-08-13/
CATEGORIES:Substance Abuse
END:VEVENT
BEGIN:VEVENT
DTSTART;TZID=UTC:20270816T150000
DTEND;TZID=UTC:20270816T160000
DTSTAMP:20260422T040535
CREATED:20210628T203642Z
LAST-MODIFIED:20210628T203642Z
UID:16019-1818428400-1818432000@nacainc.org
SUMMARY:Relapse Prevention
DESCRIPTION:
URL:https://nacainc.org/event/relapse-prevention/2027-08-16/
CATEGORIES:Substance Abuse
END:VEVENT
BEGIN:VEVENT
DTSTART;TZID=UTC:20270820T150000
DTEND;TZID=UTC:20270820T160000
DTSTAMP:20260422T040535
CREATED:20210628T203642Z
LAST-MODIFIED:20210628T203642Z
UID:16031-1818774000-1818777600@nacainc.org
SUMMARY:Relapse Prevention
DESCRIPTION:
URL:https://nacainc.org/event/relapse-prevention/2027-08-20/
CATEGORIES:Substance Abuse
END:VEVENT
BEGIN:VEVENT
DTSTART;TZID=UTC:20270823T150000
DTEND;TZID=UTC:20270823T160000
DTSTAMP:20260422T040535
CREATED:20210628T203642Z
LAST-MODIFIED:20210628T203642Z
UID:16034-1819033200-1819036800@nacainc.org
SUMMARY:Relapse Prevention
DESCRIPTION:
URL:https://nacainc.org/event/relapse-prevention/2027-08-23/
CATEGORIES:Substance Abuse
END:VEVENT
BEGIN:VEVENT
DTSTART;TZID=UTC:20270827T150000
DTEND;TZID=UTC:20270827T160000
DTSTAMP:20260422T040535
CREATED:20210628T203642Z
LAST-MODIFIED:20210628T203642Z
UID:16046-1819378800-1819382400@nacainc.org
SUMMARY:Relapse Prevention
DESCRIPTION:
URL:https://nacainc.org/event/relapse-prevention/2027-08-27/
CATEGORIES:Substance Abuse
END:VEVENT
BEGIN:VEVENT
DTSTART;TZID=UTC:20270830T150000
DTEND;TZID=UTC:20270830T160000
DTSTAMP:20260422T040535
CREATED:20210628T203642Z
LAST-MODIFIED:20210628T203642Z
UID:16049-1819638000-1819641600@nacainc.org
SUMMARY:Relapse Prevention
DESCRIPTION:
URL:https://nacainc.org/event/relapse-prevention/2027-08-30/
CATEGORIES:Substance Abuse
END:VEVENT
BEGIN:VEVENT
DTSTART;TZID=UTC:20270903T150000
DTEND;TZID=UTC:20270903T160000
DTSTAMP:20260422T040535
CREATED:20210628T203642Z
LAST-MODIFIED:20210628T203642Z
UID:16076-1819983600-1819987200@nacainc.org
SUMMARY:Relapse Prevention
DESCRIPTION:
URL:https://nacainc.org/event/relapse-prevention/2027-09-03/
CATEGORIES:Substance Abuse
END:VEVENT
BEGIN:VEVENT
DTSTART;TZID=UTC:20270906T150000
DTEND;TZID=UTC:20270906T160000
DTSTAMP:20260422T040535
CREATED:20210628T203642Z
LAST-MODIFIED:20210628T203642Z
UID:16142-1820242800-1820246400@nacainc.org
SUMMARY:Relapse Prevention
DESCRIPTION:
URL:https://nacainc.org/event/relapse-prevention/2027-09-06/
CATEGORIES:Substance Abuse
END:VEVENT
BEGIN:VEVENT
DTSTART;TZID=UTC:20270910T150000
DTEND;TZID=UTC:20270910T160000
DTSTAMP:20260422T040535
CREATED:20210628T203642Z
LAST-MODIFIED:20210628T203642Z
UID:16162-1820588400-1820592000@nacainc.org
SUMMARY:Relapse Prevention
DESCRIPTION:
URL:https://nacainc.org/event/relapse-prevention/2027-09-10/
CATEGORIES:Substance Abuse
END:VEVENT
BEGIN:VEVENT
DTSTART;TZID=UTC:20270913T150000
DTEND;TZID=UTC:20270913T160000
DTSTAMP:20260422T040535
CREATED:20210628T203642Z
LAST-MODIFIED:20210628T203642Z
UID:16166-1820847600-1820851200@nacainc.org
SUMMARY:Relapse Prevention
DESCRIPTION:
URL:https://nacainc.org/event/relapse-prevention/2027-09-13/
CATEGORIES:Substance Abuse
END:VEVENT
BEGIN:VEVENT
DTSTART;TZID=UTC:20270917T150000
DTEND;TZID=UTC:20270917T160000
DTSTAMP:20260422T040535
CREATED:20210628T203642Z
LAST-MODIFIED:20210628T203642Z
UID:16186-1821193200-1821196800@nacainc.org
SUMMARY:Relapse Prevention
DESCRIPTION:
URL:https://nacainc.org/event/relapse-prevention/2027-09-17/
CATEGORIES:Substance Abuse
END:VEVENT
BEGIN:VEVENT
DTSTART;TZID=UTC:20270920T150000
DTEND;TZID=UTC:20270920T160000
DTSTAMP:20260422T040535
CREATED:20210628T203642Z
LAST-MODIFIED:20210628T203642Z
UID:16189-1821452400-1821456000@nacainc.org
SUMMARY:Relapse Prevention
DESCRIPTION:
URL:https://nacainc.org/event/relapse-prevention/2027-09-20/
CATEGORIES:Substance Abuse
END:VEVENT
BEGIN:VEVENT
DTSTART;TZID=UTC:20270924T150000
DTEND;TZID=UTC:20270924T160000
DTSTAMP:20260422T040535
CREATED:20210628T203642Z
LAST-MODIFIED:20210628T203642Z
UID:16200-1821798000-1821801600@nacainc.org
SUMMARY:Relapse Prevention
DESCRIPTION:
URL:https://nacainc.org/event/relapse-prevention/2027-09-24/
CATEGORIES:Substance Abuse
END:VEVENT
BEGIN:VEVENT
DTSTART;TZID=UTC:20270927T150000
DTEND;TZID=UTC:20270927T160000
DTSTAMP:20260422T040535
CREATED:20210628T203642Z
LAST-MODIFIED:20210628T203642Z
UID:16203-1822057200-1822060800@nacainc.org
SUMMARY:Relapse Prevention
DESCRIPTION:
URL:https://nacainc.org/event/relapse-prevention/2027-09-27/
CATEGORIES:Substance Abuse
END:VEVENT
BEGIN:VEVENT
DTSTART;TZID=UTC:20271001T150000
DTEND;TZID=UTC:20271001T160000
DTSTAMP:20260422T040535
CREATED:20210628T203642Z
LAST-MODIFIED:20210628T203642Z
UID:16236-1822402800-1822406400@nacainc.org
SUMMARY:Relapse Prevention
DESCRIPTION:
URL:https://nacainc.org/event/relapse-prevention/2027-10-01/
CATEGORIES:Substance Abuse
END:VEVENT
BEGIN:VEVENT
DTSTART;TZID=UTC:20271004T150000
DTEND;TZID=UTC:20271004T160000
DTSTAMP:20260422T040535
CREATED:20210628T203642Z
LAST-MODIFIED:20210628T203642Z
UID:16241-1822662000-1822665600@nacainc.org
SUMMARY:Relapse Prevention
DESCRIPTION:
URL:https://nacainc.org/event/relapse-prevention/2027-10-04/
CATEGORIES:Substance Abuse
END:VEVENT
BEGIN:VEVENT
DTSTART;TZID=UTC:20271008T150000
DTEND;TZID=UTC:20271008T160000
DTSTAMP:20260422T040535
CREATED:20210628T203642Z
LAST-MODIFIED:20210628T203642Z
UID:16257-1823007600-1823011200@nacainc.org
SUMMARY:Relapse Prevention
DESCRIPTION:
URL:https://nacainc.org/event/relapse-prevention/2027-10-08/
CATEGORIES:Substance Abuse
END:VEVENT
BEGIN:VEVENT
DTSTART;TZID=UTC:20271011T150000
DTEND;TZID=UTC:20271011T160000
DTSTAMP:20260422T040535
CREATED:20210628T203642Z
LAST-MODIFIED:20210628T203642Z
UID:16260-1823266800-1823270400@nacainc.org
SUMMARY:Relapse Prevention
DESCRIPTION:
URL:https://nacainc.org/event/relapse-prevention/2027-10-11/
CATEGORIES:Substance Abuse
END:VEVENT
BEGIN:VEVENT
DTSTART;TZID=UTC:20271015T150000
DTEND;TZID=UTC:20271015T160000
DTSTAMP:20260422T040535
CREATED:20210628T203642Z
LAST-MODIFIED:20210628T203642Z
UID:16292-1823612400-1823616000@nacainc.org
SUMMARY:Relapse Prevention
DESCRIPTION:
URL:https://nacainc.org/event/relapse-prevention/2027-10-15/
CATEGORIES:Substance Abuse
END:VEVENT
BEGIN:VEVENT
DTSTART;TZID=UTC:20271018T150000
DTEND;TZID=UTC:20271018T160000
DTSTAMP:20260422T040535
CREATED:20210628T203642Z
LAST-MODIFIED:20210628T203642Z
UID:16300-1823871600-1823875200@nacainc.org
SUMMARY:Relapse Prevention
DESCRIPTION:
URL:https://nacainc.org/event/relapse-prevention/2027-10-18/
CATEGORIES:Substance Abuse
END:VEVENT
BEGIN:VEVENT
DTSTART;TZID=UTC:20271022T150000
DTEND;TZID=UTC:20271022T160000
DTSTAMP:20260422T040535
CREATED:20210628T203642Z
LAST-MODIFIED:20210628T203642Z
UID:16310-1824217200-1824220800@nacainc.org
SUMMARY:Relapse Prevention
DESCRIPTION:
URL:https://nacainc.org/event/relapse-prevention/2027-10-22/
CATEGORIES:Substance Abuse
END:VEVENT
BEGIN:VEVENT
DTSTART;TZID=UTC:20271025T150000
DTEND;TZID=UTC:20271025T160000
DTSTAMP:20260422T040535
CREATED:20210628T203642Z
LAST-MODIFIED:20210628T203642Z
UID:16322-1824476400-1824480000@nacainc.org
SUMMARY:Relapse Prevention
DESCRIPTION:
URL:https://nacainc.org/event/relapse-prevention/2027-10-25/
CATEGORIES:Substance Abuse
END:VEVENT
BEGIN:VEVENT
DTSTART;TZID=UTC:20271029T150000
DTEND;TZID=UTC:20271029T160000
DTSTAMP:20260422T040535
CREATED:20210628T203642Z
LAST-MODIFIED:20210628T203642Z
UID:16347-1824822000-1824825600@nacainc.org
SUMMARY:Relapse Prevention
DESCRIPTION:
URL:https://nacainc.org/event/relapse-prevention/2027-10-29/
CATEGORIES:Substance Abuse
END:VEVENT
BEGIN:VEVENT
DTSTART;TZID=UTC:20271101T150000
DTEND;TZID=UTC:20271101T160000
DTSTAMP:20260422T040535
CREATED:20210628T203642Z
LAST-MODIFIED:20210628T203642Z
UID:16372-1825081200-1825084800@nacainc.org
SUMMARY:Relapse Prevention
DESCRIPTION:
URL:https://nacainc.org/event/relapse-prevention/2027-11-01/
CATEGORIES:Substance Abuse
END:VEVENT
BEGIN:VEVENT
DTSTART;TZID=UTC:20271105T150000
DTEND;TZID=UTC:20271105T160000
DTSTAMP:20260422T040535
CREATED:20210628T203642Z
LAST-MODIFIED:20210628T203642Z
UID:16459-1825426800-1825430400@nacainc.org
SUMMARY:Relapse Prevention
DESCRIPTION:
URL:https://nacainc.org/event/relapse-prevention/2027-11-05/
CATEGORIES:Substance Abuse
END:VEVENT
BEGIN:VEVENT
DTSTART;TZID=UTC:20271108T150000
DTEND;TZID=UTC:20271108T160000
DTSTAMP:20260422T040535
CREATED:20210628T203642Z
LAST-MODIFIED:20210628T203642Z
UID:16463-1825686000-1825689600@nacainc.org
SUMMARY:Relapse Prevention
DESCRIPTION:
URL:https://nacainc.org/event/relapse-prevention/2027-11-08/
CATEGORIES:Substance Abuse
END:VEVENT
END:VCALENDAR