BEGIN:VCALENDAR
VERSION:2.0
PRODID:-//NACA Inc. - Native Americans for Community Action - ECPv5.13.0//NONSGML v1.0//EN
CALSCALE:GREGORIAN
METHOD:PUBLISH
X-WR-CALNAME:NACA Inc. - Native Americans for Community Action
X-ORIGINAL-URL:https://nacainc.org
X-WR-CALDESC:Events for NACA Inc. - Native Americans for Community Action
REFRESH-INTERVAL;VALUE=DURATION:PT1H
X-Robots-Tag:noindex
X-PUBLISHED-TTL:PT1H
BEGIN:VTIMEZONE
TZID:UTC
BEGIN:STANDARD
TZOFFSETFROM:+0000
TZOFFSETTO:+0000
TZNAME:UTC
DTSTART:20270101T000000
END:STANDARD
END:VTIMEZONE
BEGIN:VEVENT
DTSTART;TZID=UTC:20271022T150000
DTEND;TZID=UTC:20271022T160000
DTSTAMP:20260422T063522
CREATED:20210628T203642Z
LAST-MODIFIED:20210628T203642Z
UID:16310-1824217200-1824220800@nacainc.org
SUMMARY:Relapse Prevention
DESCRIPTION:
URL:https://nacainc.org/event/relapse-prevention/2027-10-22/
CATEGORIES:Substance Abuse
END:VEVENT
BEGIN:VEVENT
DTSTART;TZID=UTC:20271025T150000
DTEND;TZID=UTC:20271025T160000
DTSTAMP:20260422T063522
CREATED:20210628T203642Z
LAST-MODIFIED:20210628T203642Z
UID:16322-1824476400-1824480000@nacainc.org
SUMMARY:Relapse Prevention
DESCRIPTION:
URL:https://nacainc.org/event/relapse-prevention/2027-10-25/
CATEGORIES:Substance Abuse
END:VEVENT
BEGIN:VEVENT
DTSTART;TZID=UTC:20271029T150000
DTEND;TZID=UTC:20271029T160000
DTSTAMP:20260422T063522
CREATED:20210628T203642Z
LAST-MODIFIED:20210628T203642Z
UID:16347-1824822000-1824825600@nacainc.org
SUMMARY:Relapse Prevention
DESCRIPTION:
URL:https://nacainc.org/event/relapse-prevention/2027-10-29/
CATEGORIES:Substance Abuse
END:VEVENT
BEGIN:VEVENT
DTSTART;TZID=UTC:20271101T150000
DTEND;TZID=UTC:20271101T160000
DTSTAMP:20260422T063522
CREATED:20210628T203642Z
LAST-MODIFIED:20210628T203642Z
UID:16372-1825081200-1825084800@nacainc.org
SUMMARY:Relapse Prevention
DESCRIPTION:
URL:https://nacainc.org/event/relapse-prevention/2027-11-01/
CATEGORIES:Substance Abuse
END:VEVENT
BEGIN:VEVENT
DTSTART;TZID=UTC:20271105T150000
DTEND;TZID=UTC:20271105T160000
DTSTAMP:20260422T063522
CREATED:20210628T203642Z
LAST-MODIFIED:20210628T203642Z
UID:16459-1825426800-1825430400@nacainc.org
SUMMARY:Relapse Prevention
DESCRIPTION:
URL:https://nacainc.org/event/relapse-prevention/2027-11-05/
CATEGORIES:Substance Abuse
END:VEVENT
BEGIN:VEVENT
DTSTART;TZID=UTC:20271108T150000
DTEND;TZID=UTC:20271108T160000
DTSTAMP:20260422T063522
CREATED:20210628T203642Z
LAST-MODIFIED:20210628T203642Z
UID:16463-1825686000-1825689600@nacainc.org
SUMMARY:Relapse Prevention
DESCRIPTION:
URL:https://nacainc.org/event/relapse-prevention/2027-11-08/
CATEGORIES:Substance Abuse
END:VEVENT
BEGIN:VEVENT
DTSTART;TZID=UTC:20271112T150000
DTEND;TZID=UTC:20271112T160000
DTSTAMP:20260422T063522
CREATED:20210628T203642Z
LAST-MODIFIED:20210628T203642Z
UID:16479-1826031600-1826035200@nacainc.org
SUMMARY:Relapse Prevention
DESCRIPTION:
URL:https://nacainc.org/event/relapse-prevention/2027-11-12/
CATEGORIES:Substance Abuse
END:VEVENT
BEGIN:VEVENT
DTSTART;TZID=UTC:20271115T150000
DTEND;TZID=UTC:20271115T160000
DTSTAMP:20260422T063522
CREATED:20210628T203642Z
LAST-MODIFIED:20210628T203642Z
UID:16490-1826290800-1826294400@nacainc.org
SUMMARY:Relapse Prevention
DESCRIPTION:
URL:https://nacainc.org/event/relapse-prevention/2027-11-15/
CATEGORIES:Substance Abuse
END:VEVENT
BEGIN:VEVENT
DTSTART;TZID=UTC:20271119T150000
DTEND;TZID=UTC:20271119T160000
DTSTAMP:20260422T063522
CREATED:20210628T203642Z
LAST-MODIFIED:20210628T203642Z
UID:16501-1826636400-1826640000@nacainc.org
SUMMARY:Relapse Prevention
DESCRIPTION:
URL:https://nacainc.org/event/relapse-prevention/2027-11-19/
CATEGORIES:Substance Abuse
END:VEVENT
BEGIN:VEVENT
DTSTART;TZID=UTC:20271122T150000
DTEND;TZID=UTC:20271122T160000
DTSTAMP:20260422T063522
CREATED:20210628T203642Z
LAST-MODIFIED:20210628T203642Z
UID:16504-1826895600-1826899200@nacainc.org
SUMMARY:Relapse Prevention
DESCRIPTION:
URL:https://nacainc.org/event/relapse-prevention/2027-11-22/
CATEGORIES:Substance Abuse
END:VEVENT
BEGIN:VEVENT
DTSTART;TZID=UTC:20271126T150000
DTEND;TZID=UTC:20271126T160000
DTSTAMP:20260422T063522
CREATED:20210628T203642Z
LAST-MODIFIED:20210628T203642Z
UID:16516-1827241200-1827244800@nacainc.org
SUMMARY:Relapse Prevention
DESCRIPTION:
URL:https://nacainc.org/event/relapse-prevention/2027-11-26/
CATEGORIES:Substance Abuse
END:VEVENT
BEGIN:VEVENT
DTSTART;TZID=UTC:20271129T150000
DTEND;TZID=UTC:20271129T160000
DTSTAMP:20260422T063522
CREATED:20210628T203642Z
LAST-MODIFIED:20210628T203642Z
UID:16519-1827500400-1827504000@nacainc.org
SUMMARY:Relapse Prevention
DESCRIPTION:
URL:https://nacainc.org/event/relapse-prevention/2027-11-29/
CATEGORIES:Substance Abuse
END:VEVENT
BEGIN:VEVENT
DTSTART;TZID=UTC:20271203T150000
DTEND;TZID=UTC:20271203T160000
DTSTAMP:20260422T063522
CREATED:20210628T203642Z
LAST-MODIFIED:20210628T203642Z
UID:16533-1827846000-1827849600@nacainc.org
SUMMARY:Relapse Prevention
DESCRIPTION:
URL:https://nacainc.org/event/relapse-prevention/2027-12-03/
CATEGORIES:Substance Abuse
END:VEVENT
BEGIN:VEVENT
DTSTART;TZID=UTC:20271206T150000
DTEND;TZID=UTC:20271206T160000
DTSTAMP:20260422T063522
CREATED:20210628T203642Z
LAST-MODIFIED:20210628T203642Z
UID:16540-1828105200-1828108800@nacainc.org
SUMMARY:Relapse Prevention
DESCRIPTION:
URL:https://nacainc.org/event/relapse-prevention/2027-12-06/
CATEGORIES:Substance Abuse
END:VEVENT
BEGIN:VEVENT
DTSTART;TZID=UTC:20271210T150000
DTEND;TZID=UTC:20271210T160000
DTSTAMP:20260422T063522
CREATED:20210628T203642Z
LAST-MODIFIED:20210628T203642Z
UID:16562-1828450800-1828454400@nacainc.org
SUMMARY:Relapse Prevention
DESCRIPTION:
URL:https://nacainc.org/event/relapse-prevention/2027-12-10/
CATEGORIES:Substance Abuse
END:VEVENT
BEGIN:VEVENT
DTSTART;TZID=UTC:20271213T150000
DTEND;TZID=UTC:20271213T160000
DTSTAMP:20260422T063522
CREATED:20210628T203642Z
LAST-MODIFIED:20210628T203642Z
UID:16565-1828710000-1828713600@nacainc.org
SUMMARY:Relapse Prevention
DESCRIPTION:
URL:https://nacainc.org/event/relapse-prevention/2027-12-13/
CATEGORIES:Substance Abuse
END:VEVENT
BEGIN:VEVENT
DTSTART;TZID=UTC:20271217T150000
DTEND;TZID=UTC:20271217T160000
DTSTAMP:20260422T063522
CREATED:20210628T203642Z
LAST-MODIFIED:20210628T203642Z
UID:16611-1829055600-1829059200@nacainc.org
SUMMARY:Relapse Prevention
DESCRIPTION:
URL:https://nacainc.org/event/relapse-prevention/2027-12-17/
CATEGORIES:Substance Abuse
END:VEVENT
BEGIN:VEVENT
DTSTART;TZID=UTC:20271220T150000
DTEND;TZID=UTC:20271220T160000
DTSTAMP:20260422T063522
CREATED:20210628T203642Z
LAST-MODIFIED:20210628T203642Z
UID:16616-1829314800-1829318400@nacainc.org
SUMMARY:Relapse Prevention
DESCRIPTION:
URL:https://nacainc.org/event/relapse-prevention/2027-12-20/
CATEGORIES:Substance Abuse
END:VEVENT
BEGIN:VEVENT
DTSTART;TZID=UTC:20271224T150000
DTEND;TZID=UTC:20271224T160000
DTSTAMP:20260422T063522
CREATED:20210628T203642Z
LAST-MODIFIED:20210628T203642Z
UID:16628-1829660400-1829664000@nacainc.org
SUMMARY:Relapse Prevention
DESCRIPTION:
URL:https://nacainc.org/event/relapse-prevention/2027-12-24/
CATEGORIES:Substance Abuse
END:VEVENT
BEGIN:VEVENT
DTSTART;TZID=UTC:20271227T150000
DTEND;TZID=UTC:20271227T160000
DTSTAMP:20260422T063522
CREATED:20210628T203642Z
LAST-MODIFIED:20210628T203642Z
UID:16631-1829919600-1829923200@nacainc.org
SUMMARY:Relapse Prevention
DESCRIPTION:
URL:https://nacainc.org/event/relapse-prevention/2027-12-27/
CATEGORIES:Substance Abuse
END:VEVENT
BEGIN:VEVENT
DTSTART;TZID=UTC:20271231T150000
DTEND;TZID=UTC:20271231T160000
DTSTAMP:20260422T063522
CREATED:20210628T203642Z
LAST-MODIFIED:20210628T203642Z
UID:16642-1830265200-1830268800@nacainc.org
SUMMARY:Relapse Prevention
DESCRIPTION:
URL:https://nacainc.org/event/relapse-prevention/2027-12-31/
CATEGORIES:Substance Abuse
END:VEVENT
BEGIN:VEVENT
DTSTART;TZID=UTC:20280103T150000
DTEND;TZID=UTC:20280103T160000
DTSTAMP:20260422T063522
CREATED:20210628T203642Z
LAST-MODIFIED:20210628T203642Z
UID:16645-1830524400-1830528000@nacainc.org
SUMMARY:Relapse Prevention
DESCRIPTION:
URL:https://nacainc.org/event/relapse-prevention/2028-01-03/
CATEGORIES:Substance Abuse
END:VEVENT
BEGIN:VEVENT
DTSTART;TZID=UTC:20280107T150000
DTEND;TZID=UTC:20280107T160000
DTSTAMP:20260422T063522
CREATED:20210628T203642Z
LAST-MODIFIED:20210628T203642Z
UID:16672-1830870000-1830873600@nacainc.org
SUMMARY:Relapse Prevention
DESCRIPTION:
URL:https://nacainc.org/event/relapse-prevention/2028-01-07/
CATEGORIES:Substance Abuse
END:VEVENT
BEGIN:VEVENT
DTSTART;TZID=UTC:20280110T150000
DTEND;TZID=UTC:20280110T160000
DTSTAMP:20260422T063522
CREATED:20210628T203642Z
LAST-MODIFIED:20210628T203642Z
UID:16675-1831129200-1831132800@nacainc.org
SUMMARY:Relapse Prevention
DESCRIPTION:
URL:https://nacainc.org/event/relapse-prevention/2028-01-10/
CATEGORIES:Substance Abuse
END:VEVENT
BEGIN:VEVENT
DTSTART;TZID=UTC:20280114T150000
DTEND;TZID=UTC:20280114T160000
DTSTAMP:20260422T063522
CREATED:20210628T203642Z
LAST-MODIFIED:20210628T203642Z
UID:16725-1831474800-1831478400@nacainc.org
SUMMARY:Relapse Prevention
DESCRIPTION:
URL:https://nacainc.org/event/relapse-prevention/2028-01-14/
CATEGORIES:Substance Abuse
END:VEVENT
BEGIN:VEVENT
DTSTART;TZID=UTC:20280117T150000
DTEND;TZID=UTC:20280117T160000
DTSTAMP:20260422T063522
CREATED:20210628T203642Z
LAST-MODIFIED:20210628T203642Z
UID:16736-1831734000-1831737600@nacainc.org
SUMMARY:Relapse Prevention
DESCRIPTION:
URL:https://nacainc.org/event/relapse-prevention/2028-01-17/
CATEGORIES:Substance Abuse
END:VEVENT
BEGIN:VEVENT
DTSTART;TZID=UTC:20280121T150000
DTEND;TZID=UTC:20280121T160000
DTSTAMP:20260422T063522
CREATED:20210628T203642Z
LAST-MODIFIED:20210628T203642Z
UID:16754-1832079600-1832083200@nacainc.org
SUMMARY:Relapse Prevention
DESCRIPTION:
URL:https://nacainc.org/event/relapse-prevention/2028-01-21/
CATEGORIES:Substance Abuse
END:VEVENT
BEGIN:VEVENT
DTSTART;TZID=UTC:20280124T150000
DTEND;TZID=UTC:20280124T160000
DTSTAMP:20260422T063522
CREATED:20210628T203642Z
LAST-MODIFIED:20210628T203642Z
UID:16757-1832338800-1832342400@nacainc.org
SUMMARY:Relapse Prevention
DESCRIPTION:
URL:https://nacainc.org/event/relapse-prevention/2028-01-24/
CATEGORIES:Substance Abuse
END:VEVENT
BEGIN:VEVENT
DTSTART;TZID=UTC:20280128T150000
DTEND;TZID=UTC:20280128T160000
DTSTAMP:20260422T063522
CREATED:20210628T203642Z
LAST-MODIFIED:20210628T203642Z
UID:16797-1832684400-1832688000@nacainc.org
SUMMARY:Relapse Prevention
DESCRIPTION:
URL:https://nacainc.org/event/relapse-prevention/2028-01-28/
CATEGORIES:Substance Abuse
END:VEVENT
BEGIN:VEVENT
DTSTART;TZID=UTC:20280131T150000
DTEND;TZID=UTC:20280131T160000
DTSTAMP:20260422T063522
CREATED:20210628T203642Z
LAST-MODIFIED:20210628T203642Z
UID:16800-1832943600-1832947200@nacainc.org
SUMMARY:Relapse Prevention
DESCRIPTION:
URL:https://nacainc.org/event/relapse-prevention/2028-01-31/
CATEGORIES:Substance Abuse
END:VEVENT
END:VCALENDAR