BEGIN:VCALENDAR
VERSION:2.0
PRODID:-//NACA Inc. - Native Americans for Community Action - ECPv5.13.0//NONSGML v1.0//EN
CALSCALE:GREGORIAN
METHOD:PUBLISH
X-WR-CALNAME:NACA Inc. - Native Americans for Community Action
X-ORIGINAL-URL:https://nacainc.org
X-WR-CALDESC:Events for NACA Inc. - Native Americans for Community Action
REFRESH-INTERVAL;VALUE=DURATION:PT1H
X-Robots-Tag:noindex
X-PUBLISHED-TTL:PT1H
BEGIN:VTIMEZONE
TZID:UTC
BEGIN:STANDARD
TZOFFSETFROM:+0000
TZOFFSETTO:+0000
TZNAME:UTC
DTSTART:20280101T000000
END:STANDARD
END:VTIMEZONE
BEGIN:VEVENT
DTSTART;TZID=UTC:20280225T150000
DTEND;TZID=UTC:20280225T160000
DTSTAMP:20260422T113136
CREATED:20210628T203642Z
LAST-MODIFIED:20210628T203642Z
UID:16890-1835103600-1835107200@nacainc.org
SUMMARY:Relapse Prevention
DESCRIPTION:
URL:https://nacainc.org/event/relapse-prevention/2028-02-25/
CATEGORIES:Substance Abuse
END:VEVENT
BEGIN:VEVENT
DTSTART;TZID=UTC:20280228T150000
DTEND;TZID=UTC:20280228T160000
DTSTAMP:20260422T113136
CREATED:20210628T203642Z
LAST-MODIFIED:20210628T203642Z
UID:16899-1835362800-1835366400@nacainc.org
SUMMARY:Relapse Prevention
DESCRIPTION:
URL:https://nacainc.org/event/relapse-prevention/2028-02-28/
CATEGORIES:Substance Abuse
END:VEVENT
BEGIN:VEVENT
DTSTART;TZID=UTC:20280303T150000
DTEND;TZID=UTC:20280303T160000
DTSTAMP:20260422T113136
CREATED:20210628T203642Z
LAST-MODIFIED:20210628T203642Z
UID:16912-1835708400-1835712000@nacainc.org
SUMMARY:Relapse Prevention
DESCRIPTION:
URL:https://nacainc.org/event/relapse-prevention/2028-03-03/
CATEGORIES:Substance Abuse
END:VEVENT
BEGIN:VEVENT
DTSTART;TZID=UTC:20280306T150000
DTEND;TZID=UTC:20280306T160000
DTSTAMP:20260422T113136
CREATED:20210628T203642Z
LAST-MODIFIED:20210628T203642Z
UID:16915-1835967600-1835971200@nacainc.org
SUMMARY:Relapse Prevention
DESCRIPTION:
URL:https://nacainc.org/event/relapse-prevention/2028-03-06/
CATEGORIES:Substance Abuse
END:VEVENT
BEGIN:VEVENT
DTSTART;TZID=UTC:20280310T150000
DTEND;TZID=UTC:20280310T160000
DTSTAMP:20260422T113136
CREATED:20210628T203642Z
LAST-MODIFIED:20210628T203642Z
UID:16929-1836313200-1836316800@nacainc.org
SUMMARY:Relapse Prevention
DESCRIPTION:
URL:https://nacainc.org/event/relapse-prevention/2028-03-10/
CATEGORIES:Substance Abuse
END:VEVENT
BEGIN:VEVENT
DTSTART;TZID=UTC:20280313T150000
DTEND;TZID=UTC:20280313T160000
DTSTAMP:20260422T113136
CREATED:20210628T203642Z
LAST-MODIFIED:20210628T203642Z
UID:16932-1836572400-1836576000@nacainc.org
SUMMARY:Relapse Prevention
DESCRIPTION:
URL:https://nacainc.org/event/relapse-prevention/2028-03-13/
CATEGORIES:Substance Abuse
END:VEVENT
BEGIN:VEVENT
DTSTART;TZID=UTC:20280317T150000
DTEND;TZID=UTC:20280317T160000
DTSTAMP:20260422T113136
CREATED:20210628T203642Z
LAST-MODIFIED:20210628T203642Z
UID:16953-1836918000-1836921600@nacainc.org
SUMMARY:Relapse Prevention
DESCRIPTION:
URL:https://nacainc.org/event/relapse-prevention/2028-03-17/
CATEGORIES:Substance Abuse
END:VEVENT
BEGIN:VEVENT
DTSTART;TZID=UTC:20280320T150000
DTEND;TZID=UTC:20280320T160000
DTSTAMP:20260422T113136
CREATED:20210628T203642Z
LAST-MODIFIED:20210628T203642Z
UID:17040-1837177200-1837180800@nacainc.org
SUMMARY:Relapse Prevention
DESCRIPTION:
URL:https://nacainc.org/event/relapse-prevention/2028-03-20/
CATEGORIES:Substance Abuse
END:VEVENT
BEGIN:VEVENT
DTSTART;TZID=UTC:20280324T150000
DTEND;TZID=UTC:20280324T160000
DTSTAMP:20260422T113136
CREATED:20210628T203642Z
LAST-MODIFIED:20210628T203642Z
UID:17052-1837522800-1837526400@nacainc.org
SUMMARY:Relapse Prevention
DESCRIPTION:
URL:https://nacainc.org/event/relapse-prevention/2028-03-24/
CATEGORIES:Substance Abuse
END:VEVENT
BEGIN:VEVENT
DTSTART;TZID=UTC:20280327T150000
DTEND;TZID=UTC:20280327T160000
DTSTAMP:20260422T113136
CREATED:20210628T203642Z
LAST-MODIFIED:20210628T203642Z
UID:17057-1837782000-1837785600@nacainc.org
SUMMARY:Relapse Prevention
DESCRIPTION:
URL:https://nacainc.org/event/relapse-prevention/2028-03-27/
CATEGORIES:Substance Abuse
END:VEVENT
BEGIN:VEVENT
DTSTART;TZID=UTC:20280331T150000
DTEND;TZID=UTC:20280331T160000
DTSTAMP:20260422T113136
CREATED:20210628T203642Z
LAST-MODIFIED:20210628T203642Z
UID:17077-1838127600-1838131200@nacainc.org
SUMMARY:Relapse Prevention
DESCRIPTION:
URL:https://nacainc.org/event/relapse-prevention/2028-03-31/
CATEGORIES:Substance Abuse
END:VEVENT
BEGIN:VEVENT
DTSTART;TZID=UTC:20280403T150000
DTEND;TZID=UTC:20280403T160000
DTSTAMP:20260422T113136
CREATED:20210628T203642Z
LAST-MODIFIED:20210628T203642Z
UID:17110-1838386800-1838390400@nacainc.org
SUMMARY:Relapse Prevention
DESCRIPTION:
URL:https://nacainc.org/event/relapse-prevention/2028-04-03/
CATEGORIES:Substance Abuse
END:VEVENT
BEGIN:VEVENT
DTSTART;TZID=UTC:20280407T150000
DTEND;TZID=UTC:20280407T160000
DTSTAMP:20260422T113136
CREATED:20210628T203642Z
LAST-MODIFIED:20210628T203642Z
UID:17131-1838732400-1838736000@nacainc.org
SUMMARY:Relapse Prevention
DESCRIPTION:
URL:https://nacainc.org/event/relapse-prevention/2028-04-07/
CATEGORIES:Substance Abuse
END:VEVENT
BEGIN:VEVENT
DTSTART;TZID=UTC:20280410T150000
DTEND;TZID=UTC:20280410T160000
DTSTAMP:20260422T113136
CREATED:20210628T203642Z
LAST-MODIFIED:20210628T203642Z
UID:17193-1838991600-1838995200@nacainc.org
SUMMARY:Relapse Prevention
DESCRIPTION:
URL:https://nacainc.org/event/relapse-prevention/2028-04-10/
CATEGORIES:Substance Abuse
END:VEVENT
BEGIN:VEVENT
DTSTART;TZID=UTC:20280414T150000
DTEND;TZID=UTC:20280414T160000
DTSTAMP:20260422T113136
CREATED:20210628T203642Z
LAST-MODIFIED:20210628T203642Z
UID:17331-1839337200-1839340800@nacainc.org
SUMMARY:Relapse Prevention
DESCRIPTION:
URL:https://nacainc.org/event/relapse-prevention/2028-04-14/
CATEGORIES:Substance Abuse
END:VEVENT
BEGIN:VEVENT
DTSTART;TZID=UTC:20280417T150000
DTEND;TZID=UTC:20280417T160000
DTSTAMP:20260422T113136
CREATED:20210628T203642Z
LAST-MODIFIED:20210628T203642Z
UID:17338-1839596400-1839600000@nacainc.org
SUMMARY:Relapse Prevention
DESCRIPTION:
URL:https://nacainc.org/event/relapse-prevention/2028-04-17/
CATEGORIES:Substance Abuse
END:VEVENT
END:VCALENDAR