BEGIN:VCALENDAR
VERSION:2.0
PRODID:-//NACA Inc. - Native Americans for Community Action - ECPv5.13.0//NONSGML v1.0//EN
CALSCALE:GREGORIAN
METHOD:PUBLISH
X-WR-CALNAME:NACA Inc. - Native Americans for Community Action
X-ORIGINAL-URL:https://nacainc.org
X-WR-CALDESC:Events for NACA Inc. - Native Americans for Community Action
REFRESH-INTERVAL;VALUE=DURATION:PT1H
X-Robots-Tag:noindex
X-PUBLISHED-TTL:PT1H
BEGIN:VTIMEZONE
TZID:UTC
BEGIN:STANDARD
TZOFFSETFROM:+0000
TZOFFSETTO:+0000
TZNAME:UTC
DTSTART:20270101T000000
END:STANDARD
END:VTIMEZONE
BEGIN:VEVENT
DTSTART;TZID=UTC:20270212T150000
DTEND;TZID=UTC:20270212T160000
DTSTAMP:20260421T224802
CREATED:20210628T203642Z
LAST-MODIFIED:20210628T203642Z
UID:14691-1802444400-1802448000@nacainc.org
SUMMARY:Relapse Prevention
DESCRIPTION:
URL:https://nacainc.org/event/relapse-prevention/2027-02-12/
CATEGORIES:Substance Abuse
END:VEVENT
BEGIN:VEVENT
DTSTART;TZID=UTC:20270215T150000
DTEND;TZID=UTC:20270215T160000
DTSTAMP:20260421T224802
CREATED:20210628T203642Z
LAST-MODIFIED:20210628T203642Z
UID:14695-1802703600-1802707200@nacainc.org
SUMMARY:Relapse Prevention
DESCRIPTION:
URL:https://nacainc.org/event/relapse-prevention/2027-02-15/
CATEGORIES:Substance Abuse
END:VEVENT
BEGIN:VEVENT
DTSTART;TZID=UTC:20270219T150000
DTEND;TZID=UTC:20270219T160000
DTSTAMP:20260421T224802
CREATED:20210628T203642Z
LAST-MODIFIED:20210628T203642Z
UID:14715-1803049200-1803052800@nacainc.org
SUMMARY:Relapse Prevention
DESCRIPTION:
URL:https://nacainc.org/event/relapse-prevention/2027-02-19/
CATEGORIES:Substance Abuse
END:VEVENT
BEGIN:VEVENT
DTSTART;TZID=UTC:20270222T150000
DTEND;TZID=UTC:20270222T160000
DTSTAMP:20260421T224802
CREATED:20210628T203642Z
LAST-MODIFIED:20210628T203642Z
UID:14718-1803308400-1803312000@nacainc.org
SUMMARY:Relapse Prevention
DESCRIPTION:
URL:https://nacainc.org/event/relapse-prevention/2027-02-22/
CATEGORIES:Substance Abuse
END:VEVENT
BEGIN:VEVENT
DTSTART;TZID=UTC:20270226T150000
DTEND;TZID=UTC:20270226T160000
DTSTAMP:20260421T224802
CREATED:20210628T203642Z
LAST-MODIFIED:20210628T203642Z
UID:14742-1803654000-1803657600@nacainc.org
SUMMARY:Relapse Prevention
DESCRIPTION:
URL:https://nacainc.org/event/relapse-prevention/2027-02-26/
CATEGORIES:Substance Abuse
END:VEVENT
BEGIN:VEVENT
DTSTART;TZID=UTC:20270301T150000
DTEND;TZID=UTC:20270301T160000
DTSTAMP:20260421T224802
CREATED:20210628T203642Z
LAST-MODIFIED:20210628T203642Z
UID:14753-1803913200-1803916800@nacainc.org
SUMMARY:Relapse Prevention
DESCRIPTION:
URL:https://nacainc.org/event/relapse-prevention/2027-03-01/
CATEGORIES:Substance Abuse
END:VEVENT
BEGIN:VEVENT
DTSTART;TZID=UTC:20270305T150000
DTEND;TZID=UTC:20270305T160000
DTSTAMP:20260421T224802
CREATED:20210628T203642Z
LAST-MODIFIED:20210628T203642Z
UID:14773-1804258800-1804262400@nacainc.org
SUMMARY:Relapse Prevention
DESCRIPTION:
URL:https://nacainc.org/event/relapse-prevention/2027-03-05/
CATEGORIES:Substance Abuse
END:VEVENT
BEGIN:VEVENT
DTSTART;TZID=UTC:20270308T150000
DTEND;TZID=UTC:20270308T160000
DTSTAMP:20260421T224802
CREATED:20210628T203642Z
LAST-MODIFIED:20210628T203642Z
UID:14779-1804518000-1804521600@nacainc.org
SUMMARY:Relapse Prevention
DESCRIPTION:
URL:https://nacainc.org/event/relapse-prevention/2027-03-08/
CATEGORIES:Substance Abuse
END:VEVENT
BEGIN:VEVENT
DTSTART;TZID=UTC:20270312T150000
DTEND;TZID=UTC:20270312T160000
DTSTAMP:20260421T224802
CREATED:20210628T203642Z
LAST-MODIFIED:20210628T203642Z
UID:14801-1804863600-1804867200@nacainc.org
SUMMARY:Relapse Prevention
DESCRIPTION:
URL:https://nacainc.org/event/relapse-prevention/2027-03-12/
CATEGORIES:Substance Abuse
END:VEVENT
BEGIN:VEVENT
DTSTART;TZID=UTC:20270315T150000
DTEND;TZID=UTC:20270315T160000
DTSTAMP:20260421T224802
CREATED:20210628T203642Z
LAST-MODIFIED:20210628T203642Z
UID:14804-1805122800-1805126400@nacainc.org
SUMMARY:Relapse Prevention
DESCRIPTION:
URL:https://nacainc.org/event/relapse-prevention/2027-03-15/
CATEGORIES:Substance Abuse
END:VEVENT
BEGIN:VEVENT
DTSTART;TZID=UTC:20270319T150000
DTEND;TZID=UTC:20270319T160000
DTSTAMP:20260421T224802
CREATED:20210628T203642Z
LAST-MODIFIED:20210628T203642Z
UID:14816-1805468400-1805472000@nacainc.org
SUMMARY:Relapse Prevention
DESCRIPTION:
URL:https://nacainc.org/event/relapse-prevention/2027-03-19/
CATEGORIES:Substance Abuse
END:VEVENT
BEGIN:VEVENT
DTSTART;TZID=UTC:20270322T150000
DTEND;TZID=UTC:20270322T160000
DTSTAMP:20260421T224802
CREATED:20210628T203642Z
LAST-MODIFIED:20210628T203642Z
UID:14819-1805727600-1805731200@nacainc.org
SUMMARY:Relapse Prevention
DESCRIPTION:
URL:https://nacainc.org/event/relapse-prevention/2027-03-22/
CATEGORIES:Substance Abuse
END:VEVENT
BEGIN:VEVENT
DTSTART;TZID=UTC:20270326T150000
DTEND;TZID=UTC:20270326T160000
DTSTAMP:20260421T224802
CREATED:20210628T203642Z
LAST-MODIFIED:20210628T203642Z
UID:14840-1806073200-1806076800@nacainc.org
SUMMARY:Relapse Prevention
DESCRIPTION:
URL:https://nacainc.org/event/relapse-prevention/2027-03-26/
CATEGORIES:Substance Abuse
END:VEVENT
BEGIN:VEVENT
DTSTART;TZID=UTC:20270329T150000
DTEND;TZID=UTC:20270329T160000
DTSTAMP:20260421T224802
CREATED:20210628T203642Z
LAST-MODIFIED:20210628T203642Z
UID:14845-1806332400-1806336000@nacainc.org
SUMMARY:Relapse Prevention
DESCRIPTION:
URL:https://nacainc.org/event/relapse-prevention/2027-03-29/
CATEGORIES:Substance Abuse
END:VEVENT
BEGIN:VEVENT
DTSTART;TZID=UTC:20270402T150000
DTEND;TZID=UTC:20270402T160000
DTSTAMP:20260421T224802
CREATED:20210628T203642Z
LAST-MODIFIED:20210628T203642Z
UID:14869-1806678000-1806681600@nacainc.org
SUMMARY:Relapse Prevention
DESCRIPTION:
URL:https://nacainc.org/event/relapse-prevention/2027-04-02/
CATEGORIES:Substance Abuse
END:VEVENT
BEGIN:VEVENT
DTSTART;TZID=UTC:20270405T150000
DTEND;TZID=UTC:20270405T160000
DTSTAMP:20260421T224802
CREATED:20210628T203642Z
LAST-MODIFIED:20210628T203642Z
UID:14876-1806937200-1806940800@nacainc.org
SUMMARY:Relapse Prevention
DESCRIPTION:
URL:https://nacainc.org/event/relapse-prevention/2027-04-05/
CATEGORIES:Substance Abuse
END:VEVENT
BEGIN:VEVENT
DTSTART;TZID=UTC:20270409T150000
DTEND;TZID=UTC:20270409T160000
DTSTAMP:20260421T224802
CREATED:20210628T203642Z
LAST-MODIFIED:20210628T203642Z
UID:15354-1807282800-1807286400@nacainc.org
SUMMARY:Relapse Prevention
DESCRIPTION:
URL:https://nacainc.org/event/relapse-prevention/2027-04-09/
CATEGORIES:Substance Abuse
END:VEVENT
BEGIN:VEVENT
DTSTART;TZID=UTC:20270412T150000
DTEND;TZID=UTC:20270412T160000
DTSTAMP:20260421T224802
CREATED:20210628T203642Z
LAST-MODIFIED:20210628T203642Z
UID:15357-1807542000-1807545600@nacainc.org
SUMMARY:Relapse Prevention
DESCRIPTION:
URL:https://nacainc.org/event/relapse-prevention/2027-04-12/
CATEGORIES:Substance Abuse
END:VEVENT
BEGIN:VEVENT
DTSTART;TZID=UTC:20270416T150000
DTEND;TZID=UTC:20270416T160000
DTSTAMP:20260421T224802
CREATED:20210628T203642Z
LAST-MODIFIED:20210628T203642Z
UID:15391-1807887600-1807891200@nacainc.org
SUMMARY:Relapse Prevention
DESCRIPTION:
URL:https://nacainc.org/event/relapse-prevention/2027-04-16/
CATEGORIES:Substance Abuse
END:VEVENT
BEGIN:VEVENT
DTSTART;TZID=UTC:20270419T150000
DTEND;TZID=UTC:20270419T160000
DTSTAMP:20260421T224802
CREATED:20210628T203642Z
LAST-MODIFIED:20210628T203642Z
UID:15396-1808146800-1808150400@nacainc.org
SUMMARY:Relapse Prevention
DESCRIPTION:
URL:https://nacainc.org/event/relapse-prevention/2027-04-19/
CATEGORIES:Substance Abuse
END:VEVENT
BEGIN:VEVENT
DTSTART;TZID=UTC:20270423T150000
DTEND;TZID=UTC:20270423T160000
DTSTAMP:20260421T224802
CREATED:20210628T203642Z
LAST-MODIFIED:20210628T203642Z
UID:15407-1808492400-1808496000@nacainc.org
SUMMARY:Relapse Prevention
DESCRIPTION:
URL:https://nacainc.org/event/relapse-prevention/2027-04-23/
CATEGORIES:Substance Abuse
END:VEVENT
BEGIN:VEVENT
DTSTART;TZID=UTC:20270426T150000
DTEND;TZID=UTC:20270426T160000
DTSTAMP:20260421T224802
CREATED:20210628T203642Z
LAST-MODIFIED:20210628T203642Z
UID:15426-1808751600-1808755200@nacainc.org
SUMMARY:Relapse Prevention
DESCRIPTION:
URL:https://nacainc.org/event/relapse-prevention/2027-04-26/
CATEGORIES:Substance Abuse
END:VEVENT
BEGIN:VEVENT
DTSTART;TZID=UTC:20270430T150000
DTEND;TZID=UTC:20270430T160000
DTSTAMP:20260421T224802
CREATED:20210628T203642Z
LAST-MODIFIED:20210628T203642Z
UID:15442-1809097200-1809100800@nacainc.org
SUMMARY:Relapse Prevention
DESCRIPTION:
URL:https://nacainc.org/event/relapse-prevention/2027-04-30/
CATEGORIES:Substance Abuse
END:VEVENT
BEGIN:VEVENT
DTSTART;TZID=UTC:20270503T150000
DTEND;TZID=UTC:20270503T160000
DTSTAMP:20260421T224802
CREATED:20210628T203642Z
LAST-MODIFIED:20210628T203642Z
UID:15445-1809356400-1809360000@nacainc.org
SUMMARY:Relapse Prevention
DESCRIPTION:
URL:https://nacainc.org/event/relapse-prevention/2027-05-03/
CATEGORIES:Substance Abuse
END:VEVENT
BEGIN:VEVENT
DTSTART;TZID=UTC:20270507T150000
DTEND;TZID=UTC:20270507T160000
DTSTAMP:20260421T224802
CREATED:20210628T203642Z
LAST-MODIFIED:20210628T203642Z
UID:15554-1809702000-1809705600@nacainc.org
SUMMARY:Relapse Prevention
DESCRIPTION:
URL:https://nacainc.org/event/relapse-prevention/2027-05-07/
CATEGORIES:Substance Abuse
END:VEVENT
BEGIN:VEVENT
DTSTART;TZID=UTC:20270510T150000
DTEND;TZID=UTC:20270510T160000
DTSTAMP:20260421T224802
CREATED:20210628T203642Z
LAST-MODIFIED:20210628T203642Z
UID:15558-1809961200-1809964800@nacainc.org
SUMMARY:Relapse Prevention
DESCRIPTION:
URL:https://nacainc.org/event/relapse-prevention/2027-05-10/
CATEGORIES:Substance Abuse
END:VEVENT
BEGIN:VEVENT
DTSTART;TZID=UTC:20270514T150000
DTEND;TZID=UTC:20270514T160000
DTSTAMP:20260421T224802
CREATED:20210628T203642Z
LAST-MODIFIED:20210628T203642Z
UID:15575-1810306800-1810310400@nacainc.org
SUMMARY:Relapse Prevention
DESCRIPTION:
URL:https://nacainc.org/event/relapse-prevention/2027-05-14/
CATEGORIES:Substance Abuse
END:VEVENT
BEGIN:VEVENT
DTSTART;TZID=UTC:20270517T150000
DTEND;TZID=UTC:20270517T160000
DTSTAMP:20260421T224802
CREATED:20210628T203642Z
LAST-MODIFIED:20210628T203642Z
UID:15578-1810566000-1810569600@nacainc.org
SUMMARY:Relapse Prevention
DESCRIPTION:
URL:https://nacainc.org/event/relapse-prevention/2027-05-17/
CATEGORIES:Substance Abuse
END:VEVENT
BEGIN:VEVENT
DTSTART;TZID=UTC:20270521T150000
DTEND;TZID=UTC:20270521T160000
DTSTAMP:20260421T224802
CREATED:20210628T203642Z
LAST-MODIFIED:20210628T203642Z
UID:15593-1810911600-1810915200@nacainc.org
SUMMARY:Relapse Prevention
DESCRIPTION:
URL:https://nacainc.org/event/relapse-prevention/2027-05-21/
CATEGORIES:Substance Abuse
END:VEVENT
BEGIN:VEVENT
DTSTART;TZID=UTC:20270524T150000
DTEND;TZID=UTC:20270524T160000
DTSTAMP:20260421T224802
CREATED:20210628T203642Z
LAST-MODIFIED:20210628T203642Z
UID:15596-1811170800-1811174400@nacainc.org
SUMMARY:Relapse Prevention
DESCRIPTION:
URL:https://nacainc.org/event/relapse-prevention/2027-05-24/
CATEGORIES:Substance Abuse
END:VEVENT
END:VCALENDAR