BEGIN:VCALENDAR
VERSION:2.0
PRODID:-//NACA Inc. - Native Americans for Community Action - ECPv5.13.0//NONSGML v1.0//EN
CALSCALE:GREGORIAN
METHOD:PUBLISH
X-WR-CALNAME:NACA Inc. - Native Americans for Community Action
X-ORIGINAL-URL:https://nacainc.org
X-WR-CALDESC:Events for NACA Inc. - Native Americans for Community Action
REFRESH-INTERVAL;VALUE=DURATION:PT1H
X-Robots-Tag:noindex
X-PUBLISHED-TTL:PT1H
BEGIN:VTIMEZONE
TZID:UTC
BEGIN:STANDARD
TZOFFSETFROM:+0000
TZOFFSETTO:+0000
TZNAME:UTC
DTSTART:20270101T000000
END:STANDARD
END:VTIMEZONE
BEGIN:VEVENT
DTSTART;TZID=UTC:20270706T090000
DTEND;TZID=UTC:20270706T100000
DTSTAMP:20260423T102025
CREATED:20210628T200700Z
LAST-MODIFIED:20210628T200700Z
UID:15920-1814864400-1814868000@nacainc.org
SUMMARY:Domestic Violence Group #3
DESCRIPTION:
URL:https://nacainc.org/event/domestic-violence-group-3/2027-07-06/
LOCATION:AZ
CATEGORIES:Extended Services
END:VEVENT
BEGIN:VEVENT
DTSTART;TZID=UTC:20270706T150000
DTEND;TZID=UTC:20270706T160000
DTSTAMP:20260423T102025
CREATED:20210628T203054Z
LAST-MODIFIED:20210628T203054Z
UID:15921-1814886000-1814889600@nacainc.org
SUMMARY:Early Recovery
DESCRIPTION:
URL:https://nacainc.org/event/early-recovery/2027-07-06/
LOCATION:AZ
CATEGORIES:Substance Abuse
END:VEVENT
BEGIN:VEVENT
DTSTART;TZID=UTC:20270706T160000
DTEND;TZID=UTC:20270706T170000
DTSTAMP:20260423T102025
CREATED:20210628T200143Z
LAST-MODIFIED:20210628T200143Z
UID:15919-1814889600-1814893200@nacainc.org
SUMMARY:Domestic Violence Group #1
DESCRIPTION:
URL:https://nacainc.org/event/domestic-violence-group-1/2027-07-06/
LOCATION:AZ
CATEGORIES:Extended Services
END:VEVENT
BEGIN:VEVENT
DTSTART;TZID=UTC:20270706T173000
DTEND;TZID=UTC:20270706T183000
DTSTAMP:20260423T102025
CREATED:20210628T203848Z
LAST-MODIFIED:20210628T203848Z
UID:15922-1814895000-1814898600@nacainc.org
SUMMARY:Relapse Prevention
DESCRIPTION:
URL:https://nacainc.org/event/relapse-prevention-2/2027-07-06/
LOCATION:AZ
CATEGORIES:Substance Abuse
END:VEVENT
BEGIN:VEVENT
DTSTART;TZID=UTC:20270706T180000
DTEND;TZID=UTC:20270706T200000
DTSTAMP:20260423T102025
CREATED:20251105T183852Z
LAST-MODIFIED:20251105T183852Z
UID:16450-1814896800-1814904000@nacainc.org
SUMMARY:Open Drum Group
DESCRIPTION:
URL:https://nacainc.org/event/open-drum-group/2027-07-06/
LOCATION:NACA Family Health Center\, 1500 E. Cedar Ave.\, Suite 26\, Flagstaff\, AZ\, 86001\, United States
CATEGORIES:Economic Development,Extended Services,Family Health Center,Health Promotions,L.I.F.E Program,Native Connections,Pathways,Reach ur Life,Substance Abuse,Supportive Services,Wellness Center
END:VEVENT
END:VCALENDAR