BEGIN:VCALENDAR
VERSION:2.0
PRODID:-//NACA Inc. - Native Americans for Community Action - ECPv5.13.0//NONSGML v1.0//EN
CALSCALE:GREGORIAN
METHOD:PUBLISH
X-WR-CALNAME:NACA Inc. - Native Americans for Community Action
X-ORIGINAL-URL:https://nacainc.org
X-WR-CALDESC:Events for NACA Inc. - Native Americans for Community Action
REFRESH-INTERVAL;VALUE=DURATION:PT1H
X-Robots-Tag:noindex
X-PUBLISHED-TTL:PT1H
BEGIN:VTIMEZONE
TZID:UTC
BEGIN:STANDARD
TZOFFSETFROM:+0000
TZOFFSETTO:+0000
TZNAME:UTC
DTSTART:20270101T000000
END:STANDARD
END:VTIMEZONE
BEGIN:VEVENT
DTSTART;TZID=UTC:20270713T090000
DTEND;TZID=UTC:20270713T100000
DTSTAMP:20260423T102024
CREATED:20210628T200700Z
LAST-MODIFIED:20210628T200700Z
UID:15937-1815469200-1815472800@nacainc.org
SUMMARY:Domestic Violence Group #3
DESCRIPTION:
URL:https://nacainc.org/event/domestic-violence-group-3/2027-07-13/
LOCATION:AZ
CATEGORIES:Extended Services
END:VEVENT
BEGIN:VEVENT
DTSTART;TZID=UTC:20270713T150000
DTEND;TZID=UTC:20270713T160000
DTSTAMP:20260423T102024
CREATED:20210628T203054Z
LAST-MODIFIED:20210628T203054Z
UID:15938-1815490800-1815494400@nacainc.org
SUMMARY:Early Recovery
DESCRIPTION:
URL:https://nacainc.org/event/early-recovery/2027-07-13/
LOCATION:AZ
CATEGORIES:Substance Abuse
END:VEVENT
BEGIN:VEVENT
DTSTART;TZID=UTC:20270713T160000
DTEND;TZID=UTC:20270713T170000
DTSTAMP:20260423T102024
CREATED:20210628T200143Z
LAST-MODIFIED:20210628T200143Z
UID:15936-1815494400-1815498000@nacainc.org
SUMMARY:Domestic Violence Group #1
DESCRIPTION:
URL:https://nacainc.org/event/domestic-violence-group-1/2027-07-13/
LOCATION:AZ
CATEGORIES:Extended Services
END:VEVENT
BEGIN:VEVENT
DTSTART;TZID=UTC:20270713T173000
DTEND;TZID=UTC:20270713T183000
DTSTAMP:20260423T102024
CREATED:20210628T203848Z
LAST-MODIFIED:20210628T203848Z
UID:15939-1815499800-1815503400@nacainc.org
SUMMARY:Relapse Prevention
DESCRIPTION:
URL:https://nacainc.org/event/relapse-prevention-2/2027-07-13/
LOCATION:AZ
CATEGORIES:Substance Abuse
END:VEVENT
END:VCALENDAR