BEGIN:VCALENDAR
VERSION:2.0
PRODID:-//NACA Inc. - Native Americans for Community Action - ECPv5.13.0//NONSGML v1.0//EN
CALSCALE:GREGORIAN
METHOD:PUBLISH
X-WR-CALNAME:NACA Inc. - Native Americans for Community Action
X-ORIGINAL-URL:https://nacainc.org
X-WR-CALDESC:Events for NACA Inc. - Native Americans for Community Action
REFRESH-INTERVAL;VALUE=DURATION:PT1H
X-Robots-Tag:noindex
X-PUBLISHED-TTL:PT1H
BEGIN:VTIMEZONE
TZID:UTC
BEGIN:STANDARD
TZOFFSETFROM:+0000
TZOFFSETTO:+0000
TZNAME:UTC
DTSTART:20270101T000000
END:STANDARD
END:VTIMEZONE
BEGIN:VEVENT
DTSTART;TZID=UTC:20270823T150000
DTEND;TZID=UTC:20270823T160000
DTSTAMP:20260423T113337
CREATED:20210628T203642Z
LAST-MODIFIED:20210628T203642Z
UID:16034-1819033200-1819036800@nacainc.org
SUMMARY:Relapse Prevention
DESCRIPTION:
URL:https://nacainc.org/event/relapse-prevention/2027-08-23/
LOCATION:AZ
CATEGORIES:Substance Abuse
END:VEVENT
BEGIN:VEVENT
DTSTART;TZID=UTC:20270823T160000
DTEND;TZID=UTC:20270823T170000
DTSTAMP:20260423T113337
CREATED:20210628T200408Z
LAST-MODIFIED:20210628T200408Z
UID:16032-1819036800-1819040400@nacainc.org
SUMMARY:Domestic Violence Group #2
DESCRIPTION:
URL:https://nacainc.org/event/domestic-violence-group-2/2027-08-23/
LOCATION:AZ
CATEGORIES:Extended Services
END:VEVENT
BEGIN:VEVENT
DTSTART;TZID=UTC:20270823T173000
DTEND;TZID=UTC:20270823T183000
DTSTAMP:20260423T113337
CREATED:20210628T203359Z
LAST-MODIFIED:20210628T203359Z
UID:16033-1819042200-1819045800@nacainc.org
SUMMARY:Early Recovery
DESCRIPTION:
URL:https://nacainc.org/event/early-recovery-2/2027-08-23/
LOCATION:AZ
CATEGORIES:Substance Abuse
END:VEVENT
END:VCALENDAR