BEGIN:VCALENDAR
VERSION:2.0
PRODID:-//NACA Inc. - Native Americans for Community Action - ECPv5.13.0//NONSGML v1.0//EN
CALSCALE:GREGORIAN
METHOD:PUBLISH
X-WR-CALNAME:NACA Inc. - Native Americans for Community Action
X-ORIGINAL-URL:https://nacainc.org
X-WR-CALDESC:Events for NACA Inc. - Native Americans for Community Action
REFRESH-INTERVAL;VALUE=DURATION:PT1H
X-Robots-Tag:noindex
X-PUBLISHED-TTL:PT1H
BEGIN:VTIMEZONE
TZID:UTC
BEGIN:STANDARD
TZOFFSETFROM:+0000
TZOFFSETTO:+0000
TZNAME:UTC
DTSTART:20270101T000000
END:STANDARD
END:VTIMEZONE
BEGIN:VEVENT
DTSTART;TZID=UTC:20270913T150000
DTEND;TZID=UTC:20270913T160000
DTSTAMP:20260423T165540
CREATED:20210628T203642Z
LAST-MODIFIED:20210628T203642Z
UID:16166-1820847600-1820851200@nacainc.org
SUMMARY:Relapse Prevention
DESCRIPTION:
URL:https://nacainc.org/event/relapse-prevention/2027-09-13/
LOCATION:AZ
CATEGORIES:Substance Abuse
END:VEVENT
BEGIN:VEVENT
DTSTART;TZID=UTC:20270913T160000
DTEND;TZID=UTC:20270913T170000
DTSTAMP:20260423T165540
CREATED:20210628T200408Z
LAST-MODIFIED:20210628T200408Z
UID:16164-1820851200-1820854800@nacainc.org
SUMMARY:Domestic Violence Group #2
DESCRIPTION:
URL:https://nacainc.org/event/domestic-violence-group-2/2027-09-13/
LOCATION:AZ
CATEGORIES:Extended Services
END:VEVENT
BEGIN:VEVENT
DTSTART;TZID=UTC:20270913T173000
DTEND;TZID=UTC:20270913T183000
DTSTAMP:20260423T165540
CREATED:20210628T203359Z
LAST-MODIFIED:20210628T203359Z
UID:16165-1820856600-1820860200@nacainc.org
SUMMARY:Early Recovery
DESCRIPTION:
URL:https://nacainc.org/event/early-recovery-2/2027-09-13/
LOCATION:AZ
CATEGORIES:Substance Abuse
END:VEVENT
END:VCALENDAR