BEGIN:VCALENDAR
VERSION:2.0
PRODID:-//NACA Inc. - Native Americans for Community Action - ECPv5.13.0//NONSGML v1.0//EN
CALSCALE:GREGORIAN
METHOD:PUBLISH
X-WR-CALNAME:NACA Inc. - Native Americans for Community Action
X-ORIGINAL-URL:https://nacainc.org
X-WR-CALDESC:Events for NACA Inc. - Native Americans for Community Action
REFRESH-INTERVAL;VALUE=DURATION:PT1H
X-Robots-Tag:noindex
X-PUBLISHED-TTL:PT1H
BEGIN:VTIMEZONE
TZID:UTC
BEGIN:STANDARD
TZOFFSETFROM:+0000
TZOFFSETTO:+0000
TZNAME:UTC
DTSTART:20270101T000000
END:STANDARD
END:VTIMEZONE
BEGIN:VEVENT
DTSTART;TZID=UTC:20270921T090000
DTEND;TZID=UTC:20270921T100000
DTSTAMP:20260423T165537
CREATED:20210628T200700Z
LAST-MODIFIED:20210628T200700Z
UID:16191-1821517200-1821520800@nacainc.org
SUMMARY:Domestic Violence Group #3
DESCRIPTION:
URL:https://nacainc.org/event/domestic-violence-group-3/2027-09-21/
LOCATION:AZ
CATEGORIES:Extended Services
END:VEVENT
BEGIN:VEVENT
DTSTART;TZID=UTC:20270921T150000
DTEND;TZID=UTC:20270921T160000
DTSTAMP:20260423T165537
CREATED:20210628T203054Z
LAST-MODIFIED:20210628T203054Z
UID:16192-1821538800-1821542400@nacainc.org
SUMMARY:Early Recovery
DESCRIPTION:
URL:https://nacainc.org/event/early-recovery/2027-09-21/
LOCATION:AZ
CATEGORIES:Substance Abuse
END:VEVENT
BEGIN:VEVENT
DTSTART;TZID=UTC:20270921T160000
DTEND;TZID=UTC:20270921T170000
DTSTAMP:20260423T165537
CREATED:20210628T200143Z
LAST-MODIFIED:20210628T200143Z
UID:16190-1821542400-1821546000@nacainc.org
SUMMARY:Domestic Violence Group #1
DESCRIPTION:
URL:https://nacainc.org/event/domestic-violence-group-1/2027-09-21/
LOCATION:AZ
CATEGORIES:Extended Services
END:VEVENT
BEGIN:VEVENT
DTSTART;TZID=UTC:20270921T173000
DTEND;TZID=UTC:20270921T183000
DTSTAMP:20260423T165537
CREATED:20210628T203848Z
LAST-MODIFIED:20210628T203848Z
UID:16193-1821547800-1821551400@nacainc.org
SUMMARY:Relapse Prevention
DESCRIPTION:
URL:https://nacainc.org/event/relapse-prevention-2/2027-09-21/
LOCATION:AZ
CATEGORIES:Substance Abuse
END:VEVENT
END:VCALENDAR