BEGIN:VCALENDAR
VERSION:2.0
PRODID:-//NACA Inc. - Native Americans for Community Action - ECPv5.13.0//NONSGML v1.0//EN
CALSCALE:GREGORIAN
METHOD:PUBLISH
X-WR-CALNAME:NACA Inc. - Native Americans for Community Action
X-ORIGINAL-URL:https://nacainc.org
X-WR-CALDESC:Events for NACA Inc. - Native Americans for Community Action
REFRESH-INTERVAL;VALUE=DURATION:PT1H
X-Robots-Tag:noindex
X-PUBLISHED-TTL:PT1H
BEGIN:VTIMEZONE
TZID:UTC
BEGIN:STANDARD
TZOFFSETFROM:+0000
TZOFFSETTO:+0000
TZNAME:UTC
DTSTART:20270101T000000
END:STANDARD
END:VTIMEZONE
BEGIN:VEVENT
DTSTART;TZID=UTC:20271208T090000
DTEND;TZID=UTC:20271208T100000
DTSTAMP:20260423T201609
CREATED:20210628T200700Z
LAST-MODIFIED:20210628T200700Z
UID:16547-1828256400-1828260000@nacainc.org
SUMMARY:Domestic Violence Group #3
DESCRIPTION:
URL:https://nacainc.org/event/domestic-violence-group-3/2027-12-08/
LOCATION:AZ
CATEGORIES:Extended Services
END:VEVENT
BEGIN:VEVENT
DTSTART;TZID=UTC:20271208T150000
DTEND;TZID=UTC:20271208T160000
DTSTAMP:20260423T201609
CREATED:20210628T203054Z
LAST-MODIFIED:20210628T203054Z
UID:16550-1828278000-1828281600@nacainc.org
SUMMARY:Early Recovery
DESCRIPTION:
URL:https://nacainc.org/event/early-recovery/2027-12-08/
LOCATION:AZ
CATEGORIES:Substance Abuse
END:VEVENT
BEGIN:VEVENT
DTSTART;TZID=UTC:20271208T160000
DTEND;TZID=UTC:20271208T170000
DTSTAMP:20260423T201609
CREATED:20210628T200143Z
LAST-MODIFIED:20210628T200143Z
UID:16546-1828281600-1828285200@nacainc.org
SUMMARY:Domestic Violence Group #1
DESCRIPTION:
URL:https://nacainc.org/event/domestic-violence-group-1/2027-12-08/
LOCATION:AZ
CATEGORIES:Extended Services
END:VEVENT
BEGIN:VEVENT
DTSTART;TZID=UTC:20271208T173000
DTEND;TZID=UTC:20271208T183000
DTSTAMP:20260423T201609
CREATED:20210628T201032Z
LAST-MODIFIED:20210628T201032Z
UID:16548-1828287000-1828290600@nacainc.org
SUMMARY:Talking Circle
DESCRIPTION:
URL:https://nacainc.org/event/talking-circle/2027-12-08/
LOCATION:AZ
CATEGORIES:Extended Services
END:VEVENT
BEGIN:VEVENT
DTSTART;TZID=UTC:20271208T173000
DTEND;TZID=UTC:20271208T183000
DTSTAMP:20260423T201609
CREATED:20210628T202607Z
LAST-MODIFIED:20210628T202607Z
UID:16549-1828287000-1828290600@nacainc.org
SUMMARY:Health Promotion Class
DESCRIPTION:
URL:https://nacainc.org/event/health-promotion-class/2027-12-08/
LOCATION:AZ
CATEGORIES:Health Promotions
END:VEVENT
END:VCALENDAR