BEGIN:VCALENDAR
VERSION:2.0
PRODID:-//NACA Inc. - Native Americans for Community Action - ECPv5.13.0//NONSGML v1.0//EN
CALSCALE:GREGORIAN
METHOD:PUBLISH
X-WR-CALNAME:NACA Inc. - Native Americans for Community Action
X-ORIGINAL-URL:https://nacainc.org
X-WR-CALDESC:Events for NACA Inc. - Native Americans for Community Action
REFRESH-INTERVAL;VALUE=DURATION:PT1H
X-Robots-Tag:noindex
X-PUBLISHED-TTL:PT1H
BEGIN:VTIMEZONE
TZID:UTC
BEGIN:STANDARD
TZOFFSETFROM:+0000
TZOFFSETTO:+0000
TZNAME:UTC
DTSTART:20210101T000000
END:STANDARD
END:VTIMEZONE
BEGIN:VEVENT
DTSTART;TZID=UTC:20220921T173000
DTEND;TZID=UTC:20220921T193000
DTSTAMP:20260425T220126
CREATED:20220902T211405Z
LAST-MODIFIED:20220902T211405Z
UID:7198-1663781400-1663788600@nacainc.org
SUMMARY:Pronoun beading pins
DESCRIPTION:Join NACA Reach UR Life for an evening filled with belonging and cultural humility through beading \n  \nParticipants will bead pronoun pins to showcase your pronouns \n  \nThis event is for ages 10 – 24 to bead a pronoun pin and advocate the importance of using pronouns and cultural arts to develop healthy coping skills. Youth under the age of 18\, parent/guardian must be present \n  \nClick this link to register: https://lnkd.in/gnqcjguA
URL:https://nacainc.org/event/pronoun-beading-pins/
LOCATION:Puente de Hozho Gym\, 3401 N. Fourth St.\, Flagstaff\, AZ\, 86004\, United States
CATEGORIES:Extended Services,Family Health Center,Health Promotions,Pathways,Reach ur Life,Wellness Center
END:VEVENT
BEGIN:VEVENT
DTSTART;TZID=UTC:20220920T173000
DTEND;TZID=UTC:20220920T183000
DTSTAMP:20260425T220126
CREATED:20220902T184314Z
LAST-MODIFIED:20220902T184314Z
UID:7169-1663695000-1663698600@nacainc.org
SUMMARY:FREE Parenting Classes
DESCRIPTION:
URL:https://nacainc.org/event/free-parenting-classes/2022-09-20/
LOCATION:Marshall Elementary School\, 850 N Bonito\, Flagstaff\, AZ\, 86001
CATEGORIES:Extended Services,Family Health Center,Health Promotions,L.I.F.E Program,Pathways,Reach ur Life,Substance Abuse
END:VEVENT
BEGIN:VEVENT
DTSTART;TZID=UTC:20220914T170000
DTEND;TZID=UTC:20220914T183000
DTSTAMP:20260425T220126
CREATED:20220902T184557Z
LAST-MODIFIED:20220902T184557Z
UID:7178-1663174800-1663180200@nacainc.org
SUMMARY:FREE Parenting Class
DESCRIPTION:
URL:https://nacainc.org/event/free-parenting-class/2022-09-14/
LOCATION:Mount Elden Middle School\, 3223 N Fourth St\, Flagstaff\, AZ\, 86004
CATEGORIES:Extended Services,Family Health Center,Health Promotions,L.I.F.E Program,Pathways,Reach ur Life,Substance Abuse
END:VEVENT
BEGIN:VEVENT
DTSTART;TZID=UTC:20220910T090000
DTEND;TZID=UTC:20220910T130000
DTSTAMP:20260425T220126
CREATED:20220902T211043Z
LAST-MODIFIED:20220902T211104Z
UID:7194-1662800400-1662814800@nacainc.org
SUMMARY:Garden Tour & Walk at Izabel Community Garden
DESCRIPTION:Garden Tour and Harvest Workshop\, and Suicide Prevention Awareness Walk
URL:https://nacainc.org/event/garden-tour-walk-at-izabel-community-garden/
LOCATION:Izabel Community Garden\, 2300 N. Izabel St.\, Flagstaff\, AZ\, 86004
CATEGORIES:Extended Services,Family Health Center,Health Promotions,Pathways,Reach ur Life,Substance Abuse,Wellness Center
END:VEVENT
BEGIN:VEVENT
DTSTART;TZID=UTC:20220425T173000
DTEND;TZID=UTC:20220425T193000
DTSTAMP:20260425T220126
CREATED:20220421T210625Z
LAST-MODIFIED:20220421T210625Z
UID:5762-1650907800-1650915000@nacainc.org
SUMMARY:Reach UR Life Processing and Bereavement Group
DESCRIPTION:NACA’s Reach UR Life team will be hosting a Processing and Bereavement Group for those affected by the Flagstaff Tunnel Fire. Use the link below to join:\n\n\n\nhttps://us06web.zoom.us/j/84196689168?pwd=bmR4VjNwYnYvaEdBWVRDd3p3amF5Zz09\n\n\n\nMeeting ID: 841 9668 9168\nPasscode: 871028\n\n\n\nFor more information\, contact the Reach UR Life Case Manager\, Justice\, at jcmoniz@nacainc.org or call them at (928) 220-5352
URL:https://nacainc.org/event/reach-ur-life-processing-and-bereavement-group/
CATEGORIES:Extended Services,Reach ur Life
END:VEVENT
BEGIN:VEVENT
DTSTART;VALUE=DATE:20220209
DTEND;VALUE=DATE:20220210
DTSTAMP:20260425T220126
CREATED:20220210T203042Z
LAST-MODIFIED:20220210T203042Z
UID:4858-1644364800-1644451199@nacainc.org
SUMMARY:COVID-19 Vaccination Clinic (Ages 12 and Older)
DESCRIPTION:
URL:https://nacainc.org/event/covid-19-vaccination-clinic-ages-12-and-older/2022-02-09/
CATEGORIES:Extended Services
END:VEVENT
BEGIN:VEVENT
DTSTART;TZID=UTC:20220208T130000
DTEND;TZID=UTC:20220208T160000
DTSTAMP:20260425T220126
CREATED:20220210T203155Z
LAST-MODIFIED:20220210T203155Z
UID:4861-1644325200-1644336000@nacainc.org
SUMMARY:COVID-19 Youth Vaccination Clinic (Ages 5-11)
DESCRIPTION:
URL:https://nacainc.org/event/covid-19-youth-vaccination-clinic-ages-5-11/2022-02-08/
CATEGORIES:Extended Services
END:VEVENT
BEGIN:VEVENT
DTSTART;TZID=UTC:20210724T080000
DTEND;TZID=UTC:20210724T160000
DTSTAMP:20260425T220126
CREATED:20210628T202333Z
LAST-MODIFIED:20210628T202333Z
UID:2835-1627113600-1627142400@nacainc.org
SUMMARY:DUI Class #2
DESCRIPTION:
URL:https://nacainc.org/event/dui-class-2/
CATEGORIES:Extended Services
END:VEVENT
BEGIN:VEVENT
DTSTART;TZID=UTC:20210710T080000
DTEND;TZID=UTC:20210710T200000
DTSTAMP:20260425T220126
CREATED:20210628T202304Z
LAST-MODIFIED:20210628T202304Z
UID:2832-1625904000-1625947200@nacainc.org
SUMMARY:DUI Class #1
DESCRIPTION:
URL:https://nacainc.org/event/dui-class-1/
CATEGORIES:Extended Services
END:VEVENT
BEGIN:VEVENT
DTSTART;TZID=UTC:20210629T160000
DTEND;TZID=UTC:20210629T170000
DTSTAMP:20260425T220126
CREATED:20210628T200143Z
LAST-MODIFIED:20210628T200143Z
UID:2087-1624982400-1624986000@nacainc.org
SUMMARY:Domestic Violence Group #1
DESCRIPTION:
URL:https://nacainc.org/event/domestic-violence-group-1/2021-06-29/
CATEGORIES:Extended Services
END:VEVENT
BEGIN:VEVENT
DTSTART;TZID=UTC:20210628T173000
DTEND;TZID=UTC:20210628T183000
DTSTAMP:20260425T220126
CREATED:20210628T201032Z
LAST-MODIFIED:20210628T201032Z
UID:2721-1624901400-1624905000@nacainc.org
SUMMARY:Talking Circle
DESCRIPTION:
URL:https://nacainc.org/event/talking-circle/2021-06-28/
CATEGORIES:Extended Services
END:VEVENT
BEGIN:VEVENT
DTSTART;TZID=UTC:20210628T160000
DTEND;TZID=UTC:20210628T170000
DTSTAMP:20260425T220126
CREATED:20210628T200408Z
LAST-MODIFIED:20210628T200408Z
UID:2298-1624896000-1624899600@nacainc.org
SUMMARY:Domestic Violence Group #2
DESCRIPTION:
URL:https://nacainc.org/event/domestic-violence-group-2/2021-06-28/
CATEGORIES:Extended Services
END:VEVENT
BEGIN:VEVENT
DTSTART;TZID=UTC:20210628T090000
DTEND;TZID=UTC:20210628T100000
DTSTAMP:20260425T220126
CREATED:20210628T200700Z
LAST-MODIFIED:20220217T172048Z
UID:2509-1624870800-1624874400@nacainc.org
SUMMARY:Domestic Violence Group #3
DESCRIPTION:
URL:https://nacainc.org/event/domestic-violence-group-3/2021-06-28/
CATEGORIES:Extended Services
END:VEVENT
END:VCALENDAR