BEGIN:VCALENDAR
VERSION:2.0
PRODID:-//NACA Inc. - Native Americans for Community Action - ECPv5.13.0//NONSGML v1.0//EN
CALSCALE:GREGORIAN
METHOD:PUBLISH
X-WR-CALNAME:NACA Inc. - Native Americans for Community Action
X-ORIGINAL-URL:https://nacainc.org
X-WR-CALDESC:Events for NACA Inc. - Native Americans for Community Action
REFRESH-INTERVAL;VALUE=DURATION:PT1H
X-Robots-Tag:noindex
X-PUBLISHED-TTL:PT1H
BEGIN:VTIMEZONE
TZID:UTC
BEGIN:STANDARD
TZOFFSETFROM:+0000
TZOFFSETTO:+0000
TZNAME:UTC
DTSTART:20280101T000000
END:STANDARD
END:VTIMEZONE
BEGIN:VEVENT
DTSTART;TZID=UTC:20280413T160000
DTEND;TZID=UTC:20280413T170000
DTSTAMP:20260419T222811
CREATED:20210628T200408Z
LAST-MODIFIED:20210628T200408Z
UID:17319-1839254400-1839258000@nacainc.org
SUMMARY:Domestic Violence Group #2
DESCRIPTION:
URL:https://nacainc.org/event/domestic-violence-group-2/2028-04-13/
CATEGORIES:Extended Services
END:VEVENT
BEGIN:VEVENT
DTSTART;TZID=UTC:20280417T160000
DTEND;TZID=UTC:20280417T170000
DTSTAMP:20260419T222811
CREATED:20210628T200408Z
LAST-MODIFIED:20210628T200408Z
UID:17336-1839600000-1839603600@nacainc.org
SUMMARY:Domestic Violence Group #2
DESCRIPTION:
URL:https://nacainc.org/event/domestic-violence-group-2/2028-04-17/
CATEGORIES:Extended Services
END:VEVENT
BEGIN:VEVENT
DTSTART;TZID=UTC:20280418T090000
DTEND;TZID=UTC:20280418T100000
DTSTAMP:20260419T222811
CREATED:20210628T200700Z
LAST-MODIFIED:20210628T200700Z
UID:17340-1839661200-1839664800@nacainc.org
SUMMARY:Domestic Violence Group #3
DESCRIPTION:
URL:https://nacainc.org/event/domestic-violence-group-3/2028-04-18/
CATEGORIES:Extended Services
END:VEVENT
BEGIN:VEVENT
DTSTART;TZID=UTC:20280418T160000
DTEND;TZID=UTC:20280418T170000
DTSTAMP:20260419T222811
CREATED:20210628T200143Z
LAST-MODIFIED:20210628T200143Z
UID:17339-1839686400-1839690000@nacainc.org
SUMMARY:Domestic Violence Group #1
DESCRIPTION:
URL:https://nacainc.org/event/domestic-violence-group-1/2028-04-18/
CATEGORIES:Extended Services
END:VEVENT
END:VCALENDAR