BEGIN:VCALENDAR
VERSION:2.0
PRODID:-//NACA Inc. - Native Americans for Community Action - ECPv5.13.0//NONSGML v1.0//EN
CALSCALE:GREGORIAN
METHOD:PUBLISH
X-WR-CALNAME:NACA Inc. - Native Americans for Community Action
X-ORIGINAL-URL:https://nacainc.org
X-WR-CALDESC:Events for NACA Inc. - Native Americans for Community Action
REFRESH-INTERVAL;VALUE=DURATION:PT1H
X-Robots-Tag:noindex
X-PUBLISHED-TTL:PT1H
BEGIN:VTIMEZONE
TZID:UTC
BEGIN:STANDARD
TZOFFSETFROM:+0000
TZOFFSETTO:+0000
TZNAME:UTC
DTSTART:20260101T000000
END:STANDARD
END:VTIMEZONE
BEGIN:VEVENT
DTSTART;TZID=UTC:20260331T083000
DTEND;TZID=UTC:20260331T163000
DTSTAMP:20260425T140057
CREATED:20260318T215443Z
LAST-MODIFIED:20260318T215443Z
UID:16961-1774945800-1774974600@nacainc.org
SUMMARY:ASIST Training (Applied Suicide Intervention Skills Training)
DESCRIPTION:
URL:https://nacainc.org/event/asist-training-applied-suicide-intervention-skills-training/2026-03-31/
LOCATION:Flagstaff Aquaplex\, 1702 N 4th St\, Flagstaff\, AZ\, 86004\, United States
CATEGORIES:Economic Development,Extended Services,Family Health Center,Health Promotions,L.I.F.E Program,Native Connections,Pathways,Reach ur Life,Substance Abuse,Supportive Services,Wellness Center
END:VEVENT
BEGIN:VEVENT
DTSTART;TZID=UTC:20260417T120000
DTEND;TZID=UTC:20260417T160000
DTSTAMP:20260425T140057
CREATED:20260318T215755Z
LAST-MODIFIED:20260318T215755Z
UID:16967-1776427200-1776441600@nacainc.org
SUMMARY:safeTALK (Suicide Alertness For Everyone)
DESCRIPTION:
URL:https://nacainc.org/event/safetalk-suicide-alertness-for-everyone/
LOCATION:united way of northern arizona\, 1515 E. Cedar Ave.\, Suite D-1\, Flagstaff\, AZ\, 86004\, United States
CATEGORIES:Economic Development,Extended Services,Family Health Center,Health Promotions,L.I.F.E Program,Native Connections,Pathways,Reach ur Life,Substance Abuse,Supportive Services,Wellness Center
END:VEVENT
BEGIN:VEVENT
DTSTART;TZID=UTC:20260513T143000
DTEND;TZID=UTC:20260513T163000
DTSTAMP:20260425T140057
CREATED:20260318T215922Z
LAST-MODIFIED:20260318T215922Z
UID:16971-1778682600-1778689800@nacainc.org
SUMMARY:QPR (Question\, Persuade\, Refer) for Indigenous Communities
DESCRIPTION:
URL:https://nacainc.org/event/qpr-question-persuade-refer-for-indigenous-communities-3/
LOCATION:united way of northern arizona\, 1515 E. Cedar Ave.\, Suite D-1\, Flagstaff\, AZ\, 86004\, United States
CATEGORIES:Economic Development,Extended Services,Family Health Center,Health Promotions,L.I.F.E Program,Native Connections,Pathways,Reach ur Life,Substance Abuse,Supportive Services,Wellness Center
END:VEVENT
BEGIN:VEVENT
DTSTART;TZID=UTC:20260518T083000
DTEND;TZID=UTC:20260518T163000
DTSTAMP:20260425T140057
CREATED:20260318T215607Z
LAST-MODIFIED:20260423T223616Z
UID:16963-1779093000-1779121800@nacainc.org
SUMMARY:ASIST Training (Applied Suicide Intervention Skills Training)
DESCRIPTION:Register using this link: https://www.surveymonkey.com/r/L2NF3YN
URL:https://nacainc.org/event/asist-training-applied-suicide-intervention-skills-training-2/
LOCATION:NACET\, 2225 N. Gemini Rd\, Flagstaff\, AZ\, 86001
CATEGORIES:Economic Development,Extended Services,Family Health Center,Health Promotions,L.I.F.E Program,Native Connections,Pathways,Reach ur Life,Substance Abuse,Supportive Services,Wellness Center
END:VEVENT
BEGIN:VEVENT
DTSTART;TZID=UTC:20260519T083000
DTEND;TZID=UTC:20260519T163000
DTSTAMP:20260425T140057
CREATED:20260318T215607Z
LAST-MODIFIED:20260423T223616Z
UID:16965-1779179400-1779208200@nacainc.org
SUMMARY:ASIST Training (Applied Suicide Intervention Skills Training)
DESCRIPTION:Register using this link: https://www.surveymonkey.com/r/L2NF3YN
URL:https://nacainc.org/event/asist-training-applied-suicide-intervention-skills-training-2/2026-05-19/
LOCATION:NACET\, 2225 N. Gemini Rd\, Flagstaff\, AZ\, 86001
CATEGORIES:Economic Development,Extended Services,Family Health Center,Health Promotions,L.I.F.E Program,Native Connections,Pathways,Reach ur Life,Substance Abuse,Supportive Services,Wellness Center
END:VEVENT
BEGIN:VEVENT
DTSTART;TZID=UTC:20260915T180000
DTEND;TZID=UTC:20260915T200000
DTSTAMP:20260425T140057
CREATED:20251105T183852Z
LAST-MODIFIED:20251105T183852Z
UID:16429-1789495200-1789502400@nacainc.org
SUMMARY:Open Drum Group
DESCRIPTION:
URL:https://nacainc.org/event/open-drum-group/2026-09-15/
LOCATION:NACA Family Health Center\, 1500 E. Cedar Ave.\, Suite 26\, Flagstaff\, AZ\, 86001\, United States
CATEGORIES:Economic Development,Extended Services,Family Health Center,Health Promotions,L.I.F.E Program,Native Connections,Pathways,Reach ur Life,Substance Abuse,Supportive Services,Wellness Center
END:VEVENT
BEGIN:VEVENT
DTSTART;TZID=UTC:20260929T180000
DTEND;TZID=UTC:20260929T200000
DTSTAMP:20260425T140057
CREATED:20251105T183852Z
LAST-MODIFIED:20251105T183852Z
UID:16430-1790704800-1790712000@nacainc.org
SUMMARY:Open Drum Group
DESCRIPTION:
URL:https://nacainc.org/event/open-drum-group/2026-09-29/
LOCATION:NACA Family Health Center\, 1500 E. Cedar Ave.\, Suite 26\, Flagstaff\, AZ\, 86001\, United States
CATEGORIES:Economic Development,Extended Services,Family Health Center,Health Promotions,L.I.F.E Program,Native Connections,Pathways,Reach ur Life,Substance Abuse,Supportive Services,Wellness Center
END:VEVENT
BEGIN:VEVENT
DTSTART;TZID=UTC:20261013T180000
DTEND;TZID=UTC:20261013T200000
DTSTAMP:20260425T140057
CREATED:20251105T183852Z
LAST-MODIFIED:20251105T183852Z
UID:16431-1791914400-1791921600@nacainc.org
SUMMARY:Open Drum Group
DESCRIPTION:
URL:https://nacainc.org/event/open-drum-group/2026-10-13/
LOCATION:NACA Family Health Center\, 1500 E. Cedar Ave.\, Suite 26\, Flagstaff\, AZ\, 86001\, United States
CATEGORIES:Economic Development,Extended Services,Family Health Center,Health Promotions,L.I.F.E Program,Native Connections,Pathways,Reach ur Life,Substance Abuse,Supportive Services,Wellness Center
END:VEVENT
BEGIN:VEVENT
DTSTART;TZID=UTC:20261027T180000
DTEND;TZID=UTC:20261027T200000
DTSTAMP:20260425T140057
CREATED:20251105T183852Z
LAST-MODIFIED:20251105T183852Z
UID:16432-1793124000-1793131200@nacainc.org
SUMMARY:Open Drum Group
DESCRIPTION:
URL:https://nacainc.org/event/open-drum-group/2026-10-27/
LOCATION:NACA Family Health Center\, 1500 E. Cedar Ave.\, Suite 26\, Flagstaff\, AZ\, 86001\, United States
CATEGORIES:Economic Development,Extended Services,Family Health Center,Health Promotions,L.I.F.E Program,Native Connections,Pathways,Reach ur Life,Substance Abuse,Supportive Services,Wellness Center
END:VEVENT
BEGIN:VEVENT
DTSTART;TZID=UTC:20261110T180000
DTEND;TZID=UTC:20261110T200000
DTSTAMP:20260425T140057
CREATED:20251105T183852Z
LAST-MODIFIED:20251105T183852Z
UID:16433-1794333600-1794340800@nacainc.org
SUMMARY:Open Drum Group
DESCRIPTION:
URL:https://nacainc.org/event/open-drum-group/2026-11-10/
LOCATION:NACA Family Health Center\, 1500 E. Cedar Ave.\, Suite 26\, Flagstaff\, AZ\, 86001\, United States
CATEGORIES:Economic Development,Extended Services,Family Health Center,Health Promotions,L.I.F.E Program,Native Connections,Pathways,Reach ur Life,Substance Abuse,Supportive Services,Wellness Center
END:VEVENT
BEGIN:VEVENT
DTSTART;TZID=UTC:20261124T180000
DTEND;TZID=UTC:20261124T200000
DTSTAMP:20260425T140057
CREATED:20251105T183852Z
LAST-MODIFIED:20251105T183852Z
UID:16434-1795543200-1795550400@nacainc.org
SUMMARY:Open Drum Group
DESCRIPTION:
URL:https://nacainc.org/event/open-drum-group/2026-11-24/
LOCATION:NACA Family Health Center\, 1500 E. Cedar Ave.\, Suite 26\, Flagstaff\, AZ\, 86001\, United States
CATEGORIES:Economic Development,Extended Services,Family Health Center,Health Promotions,L.I.F.E Program,Native Connections,Pathways,Reach ur Life,Substance Abuse,Supportive Services,Wellness Center
END:VEVENT
BEGIN:VEVENT
DTSTART;TZID=UTC:20261208T180000
DTEND;TZID=UTC:20261208T200000
DTSTAMP:20260425T140057
CREATED:20251105T183852Z
LAST-MODIFIED:20251105T183852Z
UID:16435-1796752800-1796760000@nacainc.org
SUMMARY:Open Drum Group
DESCRIPTION:
URL:https://nacainc.org/event/open-drum-group/2026-12-08/
LOCATION:NACA Family Health Center\, 1500 E. Cedar Ave.\, Suite 26\, Flagstaff\, AZ\, 86001\, United States
CATEGORIES:Economic Development,Extended Services,Family Health Center,Health Promotions,L.I.F.E Program,Native Connections,Pathways,Reach ur Life,Substance Abuse,Supportive Services,Wellness Center
END:VEVENT
BEGIN:VEVENT
DTSTART;TZID=UTC:20261222T180000
DTEND;TZID=UTC:20261222T200000
DTSTAMP:20260425T140057
CREATED:20251105T183852Z
LAST-MODIFIED:20251105T183852Z
UID:16436-1797962400-1797969600@nacainc.org
SUMMARY:Open Drum Group
DESCRIPTION:
URL:https://nacainc.org/event/open-drum-group/2026-12-22/
LOCATION:NACA Family Health Center\, 1500 E. Cedar Ave.\, Suite 26\, Flagstaff\, AZ\, 86001\, United States
CATEGORIES:Economic Development,Extended Services,Family Health Center,Health Promotions,L.I.F.E Program,Native Connections,Pathways,Reach ur Life,Substance Abuse,Supportive Services,Wellness Center
END:VEVENT
BEGIN:VEVENT
DTSTART;TZID=UTC:20270105T180000
DTEND;TZID=UTC:20270105T200000
DTSTAMP:20260425T140057
CREATED:20251105T183852Z
LAST-MODIFIED:20251105T183852Z
UID:16437-1799172000-1799179200@nacainc.org
SUMMARY:Open Drum Group
DESCRIPTION:
URL:https://nacainc.org/event/open-drum-group/2027-01-05/
LOCATION:NACA Family Health Center\, 1500 E. Cedar Ave.\, Suite 26\, Flagstaff\, AZ\, 86001\, United States
CATEGORIES:Economic Development,Extended Services,Family Health Center,Health Promotions,L.I.F.E Program,Native Connections,Pathways,Reach ur Life,Substance Abuse,Supportive Services,Wellness Center
END:VEVENT
BEGIN:VEVENT
DTSTART;TZID=UTC:20270119T180000
DTEND;TZID=UTC:20270119T200000
DTSTAMP:20260425T140057
CREATED:20251105T183852Z
LAST-MODIFIED:20251105T183852Z
UID:16438-1800381600-1800388800@nacainc.org
SUMMARY:Open Drum Group
DESCRIPTION:
URL:https://nacainc.org/event/open-drum-group/2027-01-19/
LOCATION:NACA Family Health Center\, 1500 E. Cedar Ave.\, Suite 26\, Flagstaff\, AZ\, 86001\, United States
CATEGORIES:Economic Development,Extended Services,Family Health Center,Health Promotions,L.I.F.E Program,Native Connections,Pathways,Reach ur Life,Substance Abuse,Supportive Services,Wellness Center
END:VEVENT
BEGIN:VEVENT
DTSTART;TZID=UTC:20270202T180000
DTEND;TZID=UTC:20270202T200000
DTSTAMP:20260425T140057
CREATED:20251105T183852Z
LAST-MODIFIED:20251105T183852Z
UID:16439-1801591200-1801598400@nacainc.org
SUMMARY:Open Drum Group
DESCRIPTION:
URL:https://nacainc.org/event/open-drum-group/2027-02-02/
LOCATION:NACA Family Health Center\, 1500 E. Cedar Ave.\, Suite 26\, Flagstaff\, AZ\, 86001\, United States
CATEGORIES:Economic Development,Extended Services,Family Health Center,Health Promotions,L.I.F.E Program,Native Connections,Pathways,Reach ur Life,Substance Abuse,Supportive Services,Wellness Center
END:VEVENT
BEGIN:VEVENT
DTSTART;TZID=UTC:20270216T180000
DTEND;TZID=UTC:20270216T200000
DTSTAMP:20260425T140057
CREATED:20251105T183852Z
LAST-MODIFIED:20251105T183852Z
UID:16440-1802800800-1802808000@nacainc.org
SUMMARY:Open Drum Group
DESCRIPTION:
URL:https://nacainc.org/event/open-drum-group/2027-02-16/
LOCATION:NACA Family Health Center\, 1500 E. Cedar Ave.\, Suite 26\, Flagstaff\, AZ\, 86001\, United States
CATEGORIES:Economic Development,Extended Services,Family Health Center,Health Promotions,L.I.F.E Program,Native Connections,Pathways,Reach ur Life,Substance Abuse,Supportive Services,Wellness Center
END:VEVENT
BEGIN:VEVENT
DTSTART;TZID=UTC:20270302T180000
DTEND;TZID=UTC:20270302T200000
DTSTAMP:20260425T140057
CREATED:20251105T183852Z
LAST-MODIFIED:20251105T183852Z
UID:16441-1804010400-1804017600@nacainc.org
SUMMARY:Open Drum Group
DESCRIPTION:
URL:https://nacainc.org/event/open-drum-group/2027-03-02/
LOCATION:NACA Family Health Center\, 1500 E. Cedar Ave.\, Suite 26\, Flagstaff\, AZ\, 86001\, United States
CATEGORIES:Economic Development,Extended Services,Family Health Center,Health Promotions,L.I.F.E Program,Native Connections,Pathways,Reach ur Life,Substance Abuse,Supportive Services,Wellness Center
END:VEVENT
BEGIN:VEVENT
DTSTART;TZID=UTC:20270316T180000
DTEND;TZID=UTC:20270316T200000
DTSTAMP:20260425T140057
CREATED:20251105T183852Z
LAST-MODIFIED:20251105T183852Z
UID:16442-1805220000-1805227200@nacainc.org
SUMMARY:Open Drum Group
DESCRIPTION:
URL:https://nacainc.org/event/open-drum-group/2027-03-16/
LOCATION:NACA Family Health Center\, 1500 E. Cedar Ave.\, Suite 26\, Flagstaff\, AZ\, 86001\, United States
CATEGORIES:Economic Development,Extended Services,Family Health Center,Health Promotions,L.I.F.E Program,Native Connections,Pathways,Reach ur Life,Substance Abuse,Supportive Services,Wellness Center
END:VEVENT
BEGIN:VEVENT
DTSTART;TZID=UTC:20270330T180000
DTEND;TZID=UTC:20270330T200000
DTSTAMP:20260425T140057
CREATED:20251105T183852Z
LAST-MODIFIED:20251105T183852Z
UID:16443-1806429600-1806436800@nacainc.org
SUMMARY:Open Drum Group
DESCRIPTION:
URL:https://nacainc.org/event/open-drum-group/2027-03-30/
LOCATION:NACA Family Health Center\, 1500 E. Cedar Ave.\, Suite 26\, Flagstaff\, AZ\, 86001\, United States
CATEGORIES:Economic Development,Extended Services,Family Health Center,Health Promotions,L.I.F.E Program,Native Connections,Pathways,Reach ur Life,Substance Abuse,Supportive Services,Wellness Center
END:VEVENT
BEGIN:VEVENT
DTSTART;TZID=UTC:20270413T180000
DTEND;TZID=UTC:20270413T200000
DTSTAMP:20260425T140057
CREATED:20251105T183852Z
LAST-MODIFIED:20251105T183852Z
UID:16444-1807639200-1807646400@nacainc.org
SUMMARY:Open Drum Group
DESCRIPTION:
URL:https://nacainc.org/event/open-drum-group/2027-04-13/
LOCATION:NACA Family Health Center\, 1500 E. Cedar Ave.\, Suite 26\, Flagstaff\, AZ\, 86001\, United States
CATEGORIES:Economic Development,Extended Services,Family Health Center,Health Promotions,L.I.F.E Program,Native Connections,Pathways,Reach ur Life,Substance Abuse,Supportive Services,Wellness Center
END:VEVENT
BEGIN:VEVENT
DTSTART;TZID=UTC:20270427T180000
DTEND;TZID=UTC:20270427T200000
DTSTAMP:20260425T140057
CREATED:20251105T183852Z
LAST-MODIFIED:20251105T183852Z
UID:16445-1808848800-1808856000@nacainc.org
SUMMARY:Open Drum Group
DESCRIPTION:
URL:https://nacainc.org/event/open-drum-group/2027-04-27/
LOCATION:NACA Family Health Center\, 1500 E. Cedar Ave.\, Suite 26\, Flagstaff\, AZ\, 86001\, United States
CATEGORIES:Economic Development,Extended Services,Family Health Center,Health Promotions,L.I.F.E Program,Native Connections,Pathways,Reach ur Life,Substance Abuse,Supportive Services,Wellness Center
END:VEVENT
BEGIN:VEVENT
DTSTART;TZID=UTC:20270511T180000
DTEND;TZID=UTC:20270511T200000
DTSTAMP:20260425T140057
CREATED:20251105T183852Z
LAST-MODIFIED:20251105T183852Z
UID:16446-1810058400-1810065600@nacainc.org
SUMMARY:Open Drum Group
DESCRIPTION:
URL:https://nacainc.org/event/open-drum-group/2027-05-11/
LOCATION:NACA Family Health Center\, 1500 E. Cedar Ave.\, Suite 26\, Flagstaff\, AZ\, 86001\, United States
CATEGORIES:Economic Development,Extended Services,Family Health Center,Health Promotions,L.I.F.E Program,Native Connections,Pathways,Reach ur Life,Substance Abuse,Supportive Services,Wellness Center
END:VEVENT
BEGIN:VEVENT
DTSTART;TZID=UTC:20270525T180000
DTEND;TZID=UTC:20270525T200000
DTSTAMP:20260425T140057
CREATED:20251105T183852Z
LAST-MODIFIED:20251105T183852Z
UID:16447-1811268000-1811275200@nacainc.org
SUMMARY:Open Drum Group
DESCRIPTION:
URL:https://nacainc.org/event/open-drum-group/2027-05-25/
LOCATION:NACA Family Health Center\, 1500 E. Cedar Ave.\, Suite 26\, Flagstaff\, AZ\, 86001\, United States
CATEGORIES:Economic Development,Extended Services,Family Health Center,Health Promotions,L.I.F.E Program,Native Connections,Pathways,Reach ur Life,Substance Abuse,Supportive Services,Wellness Center
END:VEVENT
BEGIN:VEVENT
DTSTART;TZID=UTC:20270608T180000
DTEND;TZID=UTC:20270608T200000
DTSTAMP:20260425T140057
CREATED:20251105T183852Z
LAST-MODIFIED:20251105T183852Z
UID:16448-1812477600-1812484800@nacainc.org
SUMMARY:Open Drum Group
DESCRIPTION:
URL:https://nacainc.org/event/open-drum-group/2027-06-08/
LOCATION:NACA Family Health Center\, 1500 E. Cedar Ave.\, Suite 26\, Flagstaff\, AZ\, 86001\, United States
CATEGORIES:Economic Development,Extended Services,Family Health Center,Health Promotions,L.I.F.E Program,Native Connections,Pathways,Reach ur Life,Substance Abuse,Supportive Services,Wellness Center
END:VEVENT
BEGIN:VEVENT
DTSTART;TZID=UTC:20270622T180000
DTEND;TZID=UTC:20270622T200000
DTSTAMP:20260425T140057
CREATED:20251105T183852Z
LAST-MODIFIED:20251105T183852Z
UID:16449-1813687200-1813694400@nacainc.org
SUMMARY:Open Drum Group
DESCRIPTION:
URL:https://nacainc.org/event/open-drum-group/2027-06-22/
LOCATION:NACA Family Health Center\, 1500 E. Cedar Ave.\, Suite 26\, Flagstaff\, AZ\, 86001\, United States
CATEGORIES:Economic Development,Extended Services,Family Health Center,Health Promotions,L.I.F.E Program,Native Connections,Pathways,Reach ur Life,Substance Abuse,Supportive Services,Wellness Center
END:VEVENT
BEGIN:VEVENT
DTSTART;TZID=UTC:20270706T180000
DTEND;TZID=UTC:20270706T200000
DTSTAMP:20260425T140057
CREATED:20251105T183852Z
LAST-MODIFIED:20251105T183852Z
UID:16450-1814896800-1814904000@nacainc.org
SUMMARY:Open Drum Group
DESCRIPTION:
URL:https://nacainc.org/event/open-drum-group/2027-07-06/
LOCATION:NACA Family Health Center\, 1500 E. Cedar Ave.\, Suite 26\, Flagstaff\, AZ\, 86001\, United States
CATEGORIES:Economic Development,Extended Services,Family Health Center,Health Promotions,L.I.F.E Program,Native Connections,Pathways,Reach ur Life,Substance Abuse,Supportive Services,Wellness Center
END:VEVENT
BEGIN:VEVENT
DTSTART;TZID=UTC:20270720T180000
DTEND;TZID=UTC:20270720T200000
DTSTAMP:20260425T140057
CREATED:20251105T183852Z
LAST-MODIFIED:20251105T183852Z
UID:16451-1816106400-1816113600@nacainc.org
SUMMARY:Open Drum Group
DESCRIPTION:
URL:https://nacainc.org/event/open-drum-group/2027-07-20/
LOCATION:NACA Family Health Center\, 1500 E. Cedar Ave.\, Suite 26\, Flagstaff\, AZ\, 86001\, United States
CATEGORIES:Economic Development,Extended Services,Family Health Center,Health Promotions,L.I.F.E Program,Native Connections,Pathways,Reach ur Life,Substance Abuse,Supportive Services,Wellness Center
END:VEVENT
BEGIN:VEVENT
DTSTART;TZID=UTC:20270803T180000
DTEND;TZID=UTC:20270803T200000
DTSTAMP:20260425T140057
CREATED:20251105T183852Z
LAST-MODIFIED:20251105T183852Z
UID:16452-1817316000-1817323200@nacainc.org
SUMMARY:Open Drum Group
DESCRIPTION:
URL:https://nacainc.org/event/open-drum-group/2027-08-03/
LOCATION:NACA Family Health Center\, 1500 E. Cedar Ave.\, Suite 26\, Flagstaff\, AZ\, 86001\, United States
CATEGORIES:Economic Development,Extended Services,Family Health Center,Health Promotions,L.I.F.E Program,Native Connections,Pathways,Reach ur Life,Substance Abuse,Supportive Services,Wellness Center
END:VEVENT
BEGIN:VEVENT
DTSTART;TZID=UTC:20270817T180000
DTEND;TZID=UTC:20270817T200000
DTSTAMP:20260425T140057
CREATED:20251105T183852Z
LAST-MODIFIED:20251105T183852Z
UID:16453-1818525600-1818532800@nacainc.org
SUMMARY:Open Drum Group
DESCRIPTION:
URL:https://nacainc.org/event/open-drum-group/2027-08-17/
LOCATION:NACA Family Health Center\, 1500 E. Cedar Ave.\, Suite 26\, Flagstaff\, AZ\, 86001\, United States
CATEGORIES:Economic Development,Extended Services,Family Health Center,Health Promotions,L.I.F.E Program,Native Connections,Pathways,Reach ur Life,Substance Abuse,Supportive Services,Wellness Center
END:VEVENT
END:VCALENDAR