BEGIN:VCALENDAR
VERSION:2.0
PRODID:-//NACA Inc. - Native Americans for Community Action - ECPv5.13.0//NONSGML v1.0//EN
CALSCALE:GREGORIAN
METHOD:PUBLISH
X-WR-CALNAME:NACA Inc. - Native Americans for Community Action
X-ORIGINAL-URL:https://nacainc.org
X-WR-CALDESC:Events for NACA Inc. - Native Americans for Community Action
REFRESH-INTERVAL;VALUE=DURATION:PT1H
X-Robots-Tag:noindex
X-PUBLISHED-TTL:PT1H
BEGIN:VTIMEZONE
TZID:UTC
BEGIN:STANDARD
TZOFFSETFROM:+0000
TZOFFSETTO:+0000
TZNAME:UTC
DTSTART:20220101T000000
END:STANDARD
END:VTIMEZONE
BEGIN:VEVENT
DTSTART;VALUE=DATE:20221201
DTEND;VALUE=DATE:20230108
DTSTAMP:20260425T184316
CREATED:20221201T201704Z
LAST-MODIFIED:20221201T201704Z
UID:7862-1669852800-1673135999@nacainc.org
SUMMARY:Rock Your Mocs Couch to 5K
DESCRIPTION:
URL:https://nacainc.org/event/rock-your-mocs-couch-to-5k/
LOCATION:AZ
CATEGORIES:Health Promotions,Wellness Center
END:VEVENT
BEGIN:VEVENT
DTSTART;TZID=UTC:20221201T110000
DTEND;TZID=UTC:20221201T113000
DTSTAMP:20260425T184316
CREATED:20221201T200409Z
LAST-MODIFIED:20221201T200409Z
UID:7792-1669892400-1669894200@nacainc.org
SUMMARY:Chair Strength
DESCRIPTION:
URL:https://nacainc.org/event/chair-strength/2022-12-01/
LOCATION:NACA Wellness Center\, 1500 E. Cedar Ave.\, Suite 52\, Flagstaff\, AZ\, 86004\, United States
CATEGORIES:Health Promotions,Wellness Center
END:VEVENT
BEGIN:VEVENT
DTSTART;TZID=UTC:20221201T163000
DTEND;TZID=UTC:20221201T170000
DTSTAMP:20260425T184316
CREATED:20221201T200500Z
LAST-MODIFIED:20221207T171535Z
UID:7799-1669912200-1669914000@nacainc.org
SUMMARY:TRX
DESCRIPTION:
URL:https://nacainc.org/event/trx-8/2022-12-01/
LOCATION:NACA Wellness Center\, 1500 E. Cedar Ave.\, Suite 52\, Flagstaff\, AZ\, 86004\, United States
CATEGORIES:Health Promotions,Wellness Center
END:VEVENT
BEGIN:VEVENT
DTSTART;TZID=UTC:20221201T173000
DTEND;TZID=UTC:20221201T183000
DTSTAMP:20260425T184316
CREATED:20221201T200607Z
LAST-MODIFIED:20221201T200607Z
UID:7806-1669915800-1669919400@nacainc.org
SUMMARY:Spin
DESCRIPTION:
URL:https://nacainc.org/event/spin-8/2022-12-01/
LOCATION:NACA Wellness Center\, 1500 E. Cedar Ave.\, Suite 52\, Flagstaff\, AZ\, 86004\, United States
CATEGORIES:Health Promotions,Wellness Center
END:VEVENT
BEGIN:VEVENT
DTSTART;TZID=UTC:20221205T160000
DTEND;TZID=UTC:20221205T163000
DTSTAMP:20260425T184316
CREATED:20221201T200704Z
LAST-MODIFIED:20221201T200704Z
UID:7812-1670256000-1670257800@nacainc.org
SUMMARY:Super Circuit
DESCRIPTION:
URL:https://nacainc.org/event/super-circuit-8/2022-12-05/
LOCATION:NACA Wellness Center\, 1500 E. Cedar Ave.\, Suite 52\, Flagstaff\, AZ\, 86004\, United States
CATEGORIES:Health Promotions,Wellness Center
END:VEVENT
BEGIN:VEVENT
DTSTART;TZID=UTC:20221205T173000
DTEND;TZID=UTC:20221205T180000
DTSTAMP:20260425T184316
CREATED:20221201T200838Z
LAST-MODIFIED:20221207T171755Z
UID:7817-1670261400-1670263200@nacainc.org
SUMMARY:Intro to Yoga
DESCRIPTION:
URL:https://nacainc.org/event/intro-to-yoga-12/2022-12-05/
LOCATION:NACA Wellness Center\, 1500 E. Cedar Ave.\, Suite 52\, Flagstaff\, AZ\, 86004\, United States
CATEGORIES:Health Promotions,Wellness Center
END:VEVENT
BEGIN:VEVENT
DTSTART;TZID=UTC:20221206T110000
DTEND;TZID=UTC:20221206T113000
DTSTAMP:20260425T184316
CREATED:20221201T200928Z
LAST-MODIFIED:20221207T172114Z
UID:7826-1670324400-1670326200@nacainc.org
SUMMARY:Chair Stretch
DESCRIPTION:
URL:https://nacainc.org/event/chair-stretch-3/2022-12-06/
LOCATION:NACA Wellness Center\, 1500 E. Cedar Ave.\, Suite 52\, Flagstaff\, AZ\, 86004\, United States
CATEGORIES:Health Promotions,Wellness Center
END:VEVENT
BEGIN:VEVENT
DTSTART;TZID=UTC:20221206T163000
DTEND;TZID=UTC:20221206T170000
DTSTAMP:20260425T184316
CREATED:20221201T201035Z
LAST-MODIFIED:20221207T172035Z
UID:7832-1670344200-1670346000@nacainc.org
SUMMARY:TRX Yoga
DESCRIPTION:
URL:https://nacainc.org/event/trx-yoga/2022-12-06/
LOCATION:NACA Wellness Center\, 1500 E. Cedar Ave.\, Suite 52\, Flagstaff\, AZ\, 86004\, United States
CATEGORIES:Health Promotions,Wellness Center
END:VEVENT
BEGIN:VEVENT
DTSTART;TZID=UTC:20221206T173000
DTEND;TZID=UTC:20221206T190000
DTSTAMP:20260425T184316
CREATED:20221201T201547Z
LAST-MODIFIED:20221201T201547Z
UID:7859-1670347800-1670353200@nacainc.org
SUMMARY:Native Lifestyle Balance
DESCRIPTION:
URL:https://nacainc.org/event/native-lifestyle-balance-2/
LOCATION:NACA Wellness Center\, 1500 E. Cedar Ave.\, Suite 52\, Flagstaff\, AZ\, 86004\, United States
CATEGORIES:Health Promotions,Wellness Center
END:VEVENT
BEGIN:VEVENT
DTSTART;TZID=UTC:20221207T120000
DTEND;TZID=UTC:20221207T130000
DTSTAMP:20260425T184316
CREATED:20221201T201134Z
LAST-MODIFIED:20221201T201134Z
UID:7838-1670414400-1670418000@nacainc.org
SUMMARY:Spin
DESCRIPTION:
URL:https://nacainc.org/event/spin-9/2022-12-07/
LOCATION:NACA Wellness Center\, 1500 E. Cedar Ave.\, Suite 52\, Flagstaff\, AZ\, 86004\, United States
CATEGORIES:Health Promotions,Wellness Center
END:VEVENT
BEGIN:VEVENT
DTSTART;TZID=UTC:20221207T160000
DTEND;TZID=UTC:20221207T163000
DTSTAMP:20260425T184316
CREATED:20221201T201221Z
LAST-MODIFIED:20221201T201221Z
UID:7844-1670428800-1670430600@nacainc.org
SUMMARY:Step
DESCRIPTION:
URL:https://nacainc.org/event/step-6/2022-12-07/
LOCATION:NACA Wellness Center\, 1500 E. Cedar Ave.\, Suite 52\, Flagstaff\, AZ\, 86004\, United States
CATEGORIES:Health Promotions,Wellness Center
END:VEVENT
BEGIN:VEVENT
DTSTART;VALUE=DATE:20221213
DTEND;VALUE=DATE:20221214
DTSTAMP:20260425T184316
CREATED:20221207T172400Z
LAST-MODIFIED:20221207T172400Z
UID:7909-1670889600-1670975999@nacainc.org
SUMMARY:GYM CLOSED
DESCRIPTION:
URL:https://nacainc.org/event/gym-closed-8/
LOCATION:NACA Wellness Center\, 1500 E. Cedar Ave.\, Suite 52\, Flagstaff\, AZ\, 86004\, United States
CATEGORIES:Health Promotions,Wellness Center
END:VEVENT
BEGIN:VEVENT
DTSTART;VALUE=DATE:20221215
DTEND;VALUE=DATE:20221216
DTSTAMP:20260425T184316
CREATED:20221201T201348Z
LAST-MODIFIED:20221207T173727Z
UID:7853-1671062400-1671148799@nacainc.org
SUMMARY:NACA CLOSES AT 3:30 PM (MST)
DESCRIPTION:
URL:https://nacainc.org/event/gym-closes-at-5pm-mst/
LOCATION:NACA Wellness Center\, 1500 E. Cedar Ave.\, Suite 52\, Flagstaff\, AZ\, 86004\, United States
CATEGORIES:Extended Services,Family Health Center,Health Promotions,L.I.F.E Program,Native Connections,Pathways,Reach ur Life,Substance Abuse,Supportive Services,Wellness Center
END:VEVENT
BEGIN:VEVENT
DTSTART;VALUE=DATE:20221223
DTEND;VALUE=DATE:20221224
DTSTAMP:20260425T184316
CREATED:20221201T201422Z
LAST-MODIFIED:20221201T201422Z
UID:7856-1671753600-1671839999@nacainc.org
SUMMARY:GYM CLOSES AT 12PM (MST)
DESCRIPTION:
URL:https://nacainc.org/event/gym-closes-at-12pm-mst/
LOCATION:NACA Wellness Center\, 1500 E. Cedar Ave.\, Suite 52\, Flagstaff\, AZ\, 86004\, United States
CATEGORIES:Health Promotions,Wellness Center
END:VEVENT
BEGIN:VEVENT
DTSTART;VALUE=DATE:20221226
DTEND;VALUE=DATE:20221227
DTSTAMP:20260425T184316
CREATED:20221201T201259Z
LAST-MODIFIED:20221201T201259Z
UID:7850-1672012800-1672099199@nacainc.org
SUMMARY:NACA CLOSED
DESCRIPTION:
URL:https://nacainc.org/event/naca-closed-2/
LOCATION:AZ
CATEGORIES:Extended Services,Family Health Center,Health Promotions,L.I.F.E Program,Native Connections,Pathways,Reach ur Life,Substance Abuse,Supportive Services,Wellness Center
END:VEVENT
END:VCALENDAR