BEGIN:VCALENDAR
VERSION:2.0
PRODID:-//NACA Inc. - Native Americans for Community Action - ECPv5.13.0//NONSGML v1.0//EN
CALSCALE:GREGORIAN
METHOD:PUBLISH
X-WR-CALNAME:NACA Inc. - Native Americans for Community Action
X-ORIGINAL-URL:https://nacainc.org
X-WR-CALDESC:Events for NACA Inc. - Native Americans for Community Action
REFRESH-INTERVAL;VALUE=DURATION:PT1H
X-Robots-Tag:noindex
X-PUBLISHED-TTL:PT1H
BEGIN:VTIMEZONE
TZID:UTC
BEGIN:STANDARD
TZOFFSETFROM:+0000
TZOFFSETTO:+0000
TZNAME:UTC
DTSTART:20220101T000000
END:STANDARD
END:VTIMEZONE
BEGIN:VEVENT
DTSTART;VALUE=DATE:20221201
DTEND;VALUE=DATE:20230108
DTSTAMP:20260425T172455
CREATED:20221201T201704Z
LAST-MODIFIED:20221201T201704Z
UID:7862-1669852800-1673135999@nacainc.org
SUMMARY:Rock Your Mocs Couch to 5K
DESCRIPTION:
URL:https://nacainc.org/event/rock-your-mocs-couch-to-5k/
LOCATION:AZ
CATEGORIES:Health Promotions,Wellness Center
END:VEVENT
BEGIN:VEVENT
DTSTART;VALUE=DATE:20230101
DTEND;VALUE=DATE:20230201
DTSTAMP:20260425T172455
CREATED:20230111T224206Z
LAST-MODIFIED:20230111T224235Z
UID:8223-1672531200-1675209599@nacainc.org
SUMMARY:Resolution Month!
DESCRIPTION:
URL:https://nacainc.org/event/wellness-center-resolution-month/
LOCATION:NACA Wellness Center\, 1500 E. Cedar Ave.\, Suite 52\, Flagstaff\, AZ\, 86004\, United States
CATEGORIES:Extended Services,Family Health Center,Health Promotions,L.I.F.E Program,Native Connections,Pathways,Reach ur Life,Substance Abuse,Supportive Services,Wellness Center
END:VEVENT
BEGIN:VEVENT
DTSTART;TZID=UTC:20230103T110000
DTEND;TZID=UTC:20230103T113000
DTSTAMP:20260425T172455
CREATED:20230103T194554Z
LAST-MODIFIED:20230103T194554Z
UID:8098-1672743600-1672745400@nacainc.org
SUMMARY:Chair Stretch
DESCRIPTION:
URL:https://nacainc.org/event/chair-stretch-4/2023-01-03/
LOCATION:NACA Wellness Center\, 1500 E. Cedar Ave.\, Suite 52\, Flagstaff\, AZ\, 86004\, United States
CATEGORIES:Health Promotions,Wellness Center
END:VEVENT
BEGIN:VEVENT
DTSTART;TZID=UTC:20230103T163000
DTEND;TZID=UTC:20230103T170000
DTSTAMP:20260425T172455
CREATED:20230103T194722Z
LAST-MODIFIED:20230103T194722Z
UID:8105-1672763400-1672765200@nacainc.org
SUMMARY:TRX Yoga
DESCRIPTION:
URL:https://nacainc.org/event/trx-yoga-2/2023-01-03/
LOCATION:NACA Wellness Center\, 1500 E. Cedar Ave.\, Suite 52\, Flagstaff\, AZ\, 86004\, United States
CATEGORIES:Health Promotions,Wellness Center
END:VEVENT
BEGIN:VEVENT
DTSTART;TZID=UTC:20230104T120000
DTEND;TZID=UTC:20230104T123000
DTSTAMP:20260425T172455
CREATED:20230103T194900Z
LAST-MODIFIED:20230103T194900Z
UID:8112-1672833600-1672835400@nacainc.org
SUMMARY:Spin
DESCRIPTION:
URL:https://nacainc.org/event/spin-10/2023-01-04/
LOCATION:NACA Wellness Center\, 1500 E. Cedar Ave.\, Suite 52\, Flagstaff\, AZ\, 86004\, United States
CATEGORIES:Health Promotions,Wellness Center
END:VEVENT
BEGIN:VEVENT
DTSTART;TZID=UTC:20230104T160000
DTEND;TZID=UTC:20230104T163000
DTSTAMP:20260425T172455
CREATED:20230103T195023Z
LAST-MODIFIED:20230103T195023Z
UID:8118-1672848000-1672849800@nacainc.org
SUMMARY:Step
DESCRIPTION:
URL:https://nacainc.org/event/step-7/2023-01-04/
LOCATION:NACA Wellness Center\, 1500 E. Cedar Ave.\, Suite 52\, Flagstaff\, AZ\, 86004\, United States
CATEGORIES:Health Promotions,Wellness Center
END:VEVENT
BEGIN:VEVENT
DTSTART;TZID=UTC:20230104T173000
DTEND;TZID=UTC:20230104T180000
DTSTAMP:20260425T172455
CREATED:20230103T195204Z
LAST-MODIFIED:20230103T195204Z
UID:8124-1672853400-1672855200@nacainc.org
SUMMARY:Intro to Yoga
DESCRIPTION:
URL:https://nacainc.org/event/intro-to-yoga-13/2023-01-04/
LOCATION:NACA Wellness Center\, 1500 E. Cedar Ave.\, Suite 52\, Flagstaff\, AZ\, 86004\, United States
CATEGORIES:Health Promotions,Wellness Center
END:VEVENT
BEGIN:VEVENT
DTSTART;TZID=UTC:20230105T110000
DTEND;TZID=UTC:20230105T113000
DTSTAMP:20260425T172455
CREATED:20230103T195746Z
LAST-MODIFIED:20230103T195746Z
UID:8129-1672916400-1672918200@nacainc.org
SUMMARY:Chair Strength
DESCRIPTION:
URL:https://nacainc.org/event/chair-strength-2/2023-01-05/
LOCATION:NACA Wellness Center\, 1500 E. Cedar Ave.\, Suite 52\, Flagstaff\, AZ\, 86004\, United States
CATEGORIES:Health Promotions,Wellness Center
END:VEVENT
BEGIN:VEVENT
DTSTART;TZID=UTC:20230105T163000
DTEND;TZID=UTC:20230105T170000
DTSTAMP:20260425T172455
CREATED:20230103T195905Z
LAST-MODIFIED:20230103T195905Z
UID:8135-1672936200-1672938000@nacainc.org
SUMMARY:TRX
DESCRIPTION:
URL:https://nacainc.org/event/trx-9/2023-01-05/
LOCATION:NACA Wellness Center\, 1500 E. Cedar Ave.\, Suite 52\, Flagstaff\, AZ\, 86004\, United States
CATEGORIES:Health Promotions,Wellness Center
END:VEVENT
BEGIN:VEVENT
DTSTART;TZID=UTC:20230109T160000
DTEND;TZID=UTC:20230109T163000
DTSTAMP:20260425T172455
CREATED:20230103T200022Z
LAST-MODIFIED:20230103T200022Z
UID:8141-1673280000-1673281800@nacainc.org
SUMMARY:Super Circuit
DESCRIPTION:
URL:https://nacainc.org/event/super-circuit-9/2023-01-09/
LOCATION:NACA Wellness Center\, 1500 E. Cedar Ave.\, Suite 52\, Flagstaff\, AZ\, 86004\, United States
CATEGORIES:Health Promotions,Wellness Center
END:VEVENT
BEGIN:VEVENT
DTSTART;VALUE=DATE:20230116
DTEND;VALUE=DATE:20230117
DTSTAMP:20260425T172455
CREATED:20230103T200255Z
LAST-MODIFIED:20230103T200255Z
UID:8153-1673827200-1673913599@nacainc.org
SUMMARY:NACA CLOSED
DESCRIPTION:
URL:https://nacainc.org/event/naca-closed-3/
LOCATION:AZ
CATEGORIES:Extended Services,Family Health Center,Health Promotions,L.I.F.E Program,Native Connections,Pathways,Reach ur Life,Substance Abuse,Supportive Services,Wellness Center
END:VEVENT
BEGIN:VEVENT
DTSTART;TZID=UTC:20230120T080000
DTEND;TZID=UTC:20230120T140000
DTSTAMP:20260425T172455
CREATED:20230103T200215Z
LAST-MODIFIED:20230103T200215Z
UID:8150-1674201600-1674223200@nacainc.org
SUMMARY:Diabetes Self-Management Education Class
DESCRIPTION:
URL:https://nacainc.org/event/diabetes-self-management-education-class-2/
LOCATION:NACA Wellness Center\, 1500 E. Cedar Ave.\, Suite 52\, Flagstaff\, AZ\, 86004\, United States
CATEGORIES:Family Health Center,Health Promotions,Wellness Center
END:VEVENT
BEGIN:VEVENT
DTSTART;TZID=UTC:20230123T173000
DTEND;TZID=UTC:20230123T180000
DTSTAMP:20260425T172455
CREATED:20230103T200125Z
LAST-MODIFIED:20230103T200125Z
UID:8146-1674495000-1674496800@nacainc.org
SUMMARY:Intro to Yoga
DESCRIPTION:
URL:https://nacainc.org/event/intro-to-yoga-14/2023-01-23/
LOCATION:NACA Wellness Center\, 1500 E. Cedar Ave.\, Suite 52\, Flagstaff\, AZ\, 86004\, United States
CATEGORIES:Health Promotions,Wellness Center
END:VEVENT
BEGIN:VEVENT
DTSTART;VALUE=DATE:20230127
DTEND;VALUE=DATE:20230128
DTSTAMP:20260425T172455
CREATED:20230103T200339Z
LAST-MODIFIED:20230103T200339Z
UID:8156-1674777600-1674863999@nacainc.org
SUMMARY:GYM CLOSED
DESCRIPTION:
URL:https://nacainc.org/event/gym-closed-9/
LOCATION:NACA Wellness Center\, 1500 E. Cedar Ave.\, Suite 52\, Flagstaff\, AZ\, 86004\, United States
CATEGORIES:Family Health Center,Health Promotions,Wellness Center
END:VEVENT
END:VCALENDAR