BEGIN:VCALENDAR
VERSION:2.0
PRODID:-//NACA Inc. - Native Americans for Community Action - ECPv5.13.0//NONSGML v1.0//EN
CALSCALE:GREGORIAN
METHOD:PUBLISH
X-WR-CALNAME:NACA Inc. - Native Americans for Community Action
X-ORIGINAL-URL:https://nacainc.org
X-WR-CALDESC:Events for NACA Inc. - Native Americans for Community Action
REFRESH-INTERVAL;VALUE=DURATION:PT1H
X-Robots-Tag:noindex
X-PUBLISHED-TTL:PT1H
BEGIN:VTIMEZONE
TZID:UTC
BEGIN:STANDARD
TZOFFSETFROM:+0000
TZOFFSETTO:+0000
TZNAME:UTC
DTSTART:20220101T000000
END:STANDARD
END:VTIMEZONE
BEGIN:VEVENT
DTSTART;TZID=UTC:20221109T120000
DTEND;TZID=UTC:20221109T123000
DTSTAMP:20260425T225005
CREATED:20221102T222842Z
LAST-MODIFIED:20221102T222842Z
UID:7602-1667995200-1667997000@nacainc.org
SUMMARY:Spin
DESCRIPTION:
URL:https://nacainc.org/event/spin-6/2022-11-09/
LOCATION:NACA Wellness Center\, 1500 E. Cedar Ave.\, Suite 52\, Flagstaff\, AZ\, 86004\, United States
CATEGORIES:Health Promotions,Wellness Center
END:VEVENT
BEGIN:VEVENT
DTSTART;TZID=UTC:20221109T173000
DTEND;TZID=UTC:20221109T180000
DTSTAMP:20260425T225005
CREATED:20221102T222931Z
LAST-MODIFIED:20221102T222931Z
UID:7608-1668015000-1668016800@nacainc.org
SUMMARY:Spin
DESCRIPTION:
URL:https://nacainc.org/event/spin-7/2022-11-09/
LOCATION:NACA Wellness Center\, 1500 E. Cedar Ave.\, Suite 52\, Flagstaff\, AZ\, 86004\, United States
CATEGORIES:Health Promotions,Wellness Center
END:VEVENT
END:VCALENDAR