BEGIN:VCALENDAR
VERSION:2.0
PRODID:-//NACA Inc. - Native Americans for Community Action - ECPv5.13.0//NONSGML v1.0//EN
CALSCALE:GREGORIAN
METHOD:PUBLISH
X-WR-CALNAME:NACA Inc. - Native Americans for Community Action
X-ORIGINAL-URL:https://nacainc.org
X-WR-CALDESC:Events for NACA Inc. - Native Americans for Community Action
REFRESH-INTERVAL;VALUE=DURATION:PT1H
X-Robots-Tag:noindex
X-PUBLISHED-TTL:PT1H
BEGIN:VTIMEZONE
TZID:UTC
BEGIN:STANDARD
TZOFFSETFROM:+0000
TZOFFSETTO:+0000
TZNAME:UTC
DTSTART:20220101T000000
END:STANDARD
END:VTIMEZONE
BEGIN:VEVENT
DTSTART;VALUE=DATE:20221113
DTEND;VALUE=DATE:20221120
DTSTAMP:20260426T001532
CREATED:20221102T223353Z
LAST-MODIFIED:20221102T223353Z
UID:7624-1668297600-1668902399@nacainc.org
SUMMARY:Roc Your Mocs Virtual 2k/5k Walk/Run
DESCRIPTION:Register here: https://docs.google.com/forms/d/e/1FAIpQLSfrYgGXf6zw6Y2QIOyWWwvD8YGsIWXG6WEkaru7yrS8G5aatw/viewform
URL:https://nacainc.org/event/roc-your-mocs-virtual-2k-5k-walk-run/
LOCATION:AZ
CATEGORIES:Health Promotions,Wellness Center
END:VEVENT
BEGIN:VEVENT
DTSTART;VALUE=DATE:20221117
DTEND;VALUE=DATE:20221118
DTSTAMP:20260426T001532
CREATED:20221109T175933Z
LAST-MODIFIED:20221109T175933Z
UID:7698-1668643200-1668729599@nacainc.org
SUMMARY:Traditional Hair Day - #NativeStrong Heritage Week
DESCRIPTION:
URL:https://nacainc.org/event/traditional-hair-day-nativestrong-heritage-week/
LOCATION:AZ
CATEGORIES:Family Health Center,Health Promotions,Pathways,Reach ur Life,Supportive Services,Wellness Center
END:VEVENT
BEGIN:VEVENT
DTSTART;TZID=UTC:20221117T083000
DTEND;TZID=UTC:20221117T163000
DTSTAMP:20260426T001532
CREATED:20221026T211341Z
LAST-MODIFIED:20221026T211341Z
UID:7531-1668673800-1668702600@nacainc.org
SUMMARY:Homeless and Hunger Awareness Symposium
DESCRIPTION:
URL:https://nacainc.org/event/homeless-and-hunger-awareness-symposium/
LOCATION:NACET\, 2225 N. Gemini Rd\, Flagstaff\, AZ\, 86001
CATEGORIES:Health Promotions,Reach ur Life,Supportive Services,Wellness Center
END:VEVENT
BEGIN:VEVENT
DTSTART;TZID=UTC:20221117T100000
DTEND;TZID=UTC:20221117T150000
DTSTAMP:20260426T001532
CREATED:20221102T223214Z
LAST-MODIFIED:20221102T223214Z
UID:7621-1668679200-1668697200@nacainc.org
SUMMARY:GYM CLOSED - 10 AM - 3 PM
DESCRIPTION:
URL:https://nacainc.org/event/gym-closed-10-am-3-pm/
LOCATION:NACA Wellness Center\, 1500 E. Cedar Ave.\, Suite 52\, Flagstaff\, AZ\, 86004\, United States
CATEGORIES:Health Promotions,Wellness Center
END:VEVENT
BEGIN:VEVENT
DTSTART;TZID=UTC:20221117T180000
DTEND;TZID=UTC:20221117T193000
DTSTAMP:20260426T001532
CREATED:20221109T180052Z
LAST-MODIFIED:20221109T182202Z
UID:7701-1668708000-1668713400@nacainc.org
SUMMARY:Film Screening of "The Seeds Our Ancestors Planted"
DESCRIPTION:“The Seeds Our Ancestors Planted” is a film that follows former NACA L.I.F.E intern\, Kai Begay and his family’s journey of eating plant-based food during the COVID-19 pandemic. The screening will be followed by a food demonstration of an easy plant-based meal.
URL:https://nacainc.org/event/film-screening-of-the-seeds-our-ancestors-planted/
LOCATION:AZ
CATEGORIES:Family Health Center,Health Promotions,Pathways,Reach ur Life,Supportive Services,Wellness Center
END:VEVENT
END:VCALENDAR