BEGIN:VCALENDAR
VERSION:2.0
PRODID:-//NACA Inc. - Native Americans for Community Action - ECPv5.13.0//NONSGML v1.0//EN
CALSCALE:GREGORIAN
METHOD:PUBLISH
X-WR-CALNAME:NACA Inc. - Native Americans for Community Action
X-ORIGINAL-URL:https://nacainc.org
X-WR-CALDESC:Events for NACA Inc. - Native Americans for Community Action
REFRESH-INTERVAL;VALUE=DURATION:PT1H
X-Robots-Tag:noindex
X-PUBLISHED-TTL:PT1H
BEGIN:VTIMEZONE
TZID:UTC
BEGIN:STANDARD
TZOFFSETFROM:+0000
TZOFFSETTO:+0000
TZNAME:UTC
DTSTART:20230101T000000
END:STANDARD
END:VTIMEZONE
BEGIN:VEVENT
DTSTART;TZID=UTC:20230329T150000
DTEND;TZID=UTC:20230329T170000
DTSTAMP:20260425T150427
CREATED:20230308T003204Z
LAST-MODIFIED:20230308T003204Z
UID:8736-1680102000-1680109200@nacainc.org
SUMMARY:Wellness Center CLOSING EARLY for Boys and Girls Club
DESCRIPTION:
URL:https://nacainc.org/event/wellness-center-closing-early-for-boys-and-girls-club/
LOCATION:NACA Wellness Center\, 1500 E. Cedar Ave.\, Suite 52\, Flagstaff\, AZ\, 86004\, United States
CATEGORIES:Health Promotions,Wellness Center
END:VEVENT
END:VCALENDAR