BEGIN:VCALENDAR
VERSION:2.0
PRODID:-//NACA Inc. - Native Americans for Community Action - ECPv5.13.0//NONSGML v1.0//EN
CALSCALE:GREGORIAN
METHOD:PUBLISH
X-WR-CALNAME:NACA Inc. - Native Americans for Community Action
X-ORIGINAL-URL:https://nacainc.org
X-WR-CALDESC:Events for NACA Inc. - Native Americans for Community Action
REFRESH-INTERVAL;VALUE=DURATION:PT1H
X-Robots-Tag:noindex
X-PUBLISHED-TTL:PT1H
BEGIN:VTIMEZONE
TZID:UTC
BEGIN:STANDARD
TZOFFSETFROM:+0000
TZOFFSETTO:+0000
TZNAME:UTC
DTSTART:20230101T000000
END:STANDARD
END:VTIMEZONE
BEGIN:VEVENT
DTSTART;TZID=UTC:20230404T110000
DTEND;TZID=UTC:20230404T113000
DTSTAMP:20260425T213214
CREATED:20230331T173153Z
LAST-MODIFIED:20230331T175302Z
UID:8888-1680606000-1680607800@nacainc.org
SUMMARY:Chair Strength
DESCRIPTION:
URL:https://nacainc.org/event/chair-strength-5/2023-04-04/
LOCATION:NACA Wellness Center\, 1500 E. Cedar Ave.\, Suite 52\, Flagstaff\, AZ\, 86004\, United States
CATEGORIES:Health Promotions,Wellness Center
END:VEVENT
BEGIN:VEVENT
DTSTART;TZID=UTC:20230404T153000
DTEND;TZID=UTC:20230404T170000
DTSTAMP:20260425T213214
CREATED:20230331T173955Z
LAST-MODIFIED:20230331T173955Z
UID:8931-1680622200-1680627600@nacainc.org
SUMMARY:Strong Spirit\, Strong Heart
DESCRIPTION:
URL:https://nacainc.org/event/strong-spirit-strong-heart-3/2023-04-04/
LOCATION:NACA Wellness Center\, 1500 E. Cedar Ave.\, Suite 52\, Flagstaff\, AZ\, 86004\, United States
CATEGORIES:Health Promotions,Wellness Center
END:VEVENT
BEGIN:VEVENT
DTSTART;TZID=UTC:20230404T160000
DTEND;TZID=UTC:20230404T163000
DTSTAMP:20260425T213214
CREATED:20230331T173251Z
LAST-MODIFIED:20230331T173346Z
UID:8894-1680624000-1680625800@nacainc.org
SUMMARY:TRX
DESCRIPTION:
URL:https://nacainc.org/event/trx-13/2023-04-04/
LOCATION:NACA Wellness Center\, 1500 E. Cedar Ave.\, Suite 52\, Flagstaff\, AZ\, 86004\, United States
CATEGORIES:Health Promotions,Wellness Center
END:VEVENT
END:VCALENDAR