BEGIN:VCALENDAR
VERSION:2.0
PRODID:-//NACA Inc. - Native Americans for Community Action - ECPv5.13.0//NONSGML v1.0//EN
CALSCALE:GREGORIAN
METHOD:PUBLISH
X-WR-CALNAME:NACA Inc. - Native Americans for Community Action
X-ORIGINAL-URL:https://nacainc.org
X-WR-CALDESC:Events for NACA Inc. - Native Americans for Community Action
REFRESH-INTERVAL;VALUE=DURATION:PT1H
X-Robots-Tag:noindex
X-PUBLISHED-TTL:PT1H
BEGIN:VTIMEZONE
TZID:UTC
BEGIN:STANDARD
TZOFFSETFROM:+0000
TZOFFSETTO:+0000
TZNAME:UTC
DTSTART:20230101T000000
END:STANDARD
END:VTIMEZONE
BEGIN:VEVENT
DTSTART;TZID=UTC:20230405T120000
DTEND;TZID=UTC:20230405T123000
DTSTAMP:20260425T152122
CREATED:20230331T173455Z
LAST-MODIFIED:20230407T194214Z
UID:8907-1680696000-1680697800@nacainc.org
SUMMARY:Pow Wow Sweat
DESCRIPTION:
URL:https://nacainc.org/event/spin-15/2023-04-05/
LOCATION:NACA Wellness Center\, 1500 E. Cedar Ave.\, Suite 52\, Flagstaff\, AZ\, 86004\, United States
CATEGORIES:Health Promotions,Wellness Center
END:VEVENT
BEGIN:VEVENT
DTSTART;TZID=UTC:20230405T160000
DTEND;TZID=UTC:20230405T163000
DTSTAMP:20260425T152122
CREATED:20230331T173552Z
LAST-MODIFIED:20230331T173552Z
UID:8913-1680710400-1680712200@nacainc.org
SUMMARY:Step
DESCRIPTION:
URL:https://nacainc.org/event/step-10/2023-04-05/
LOCATION:NACA Wellness Center\, 1500 E. Cedar Ave.\, Suite 52\, Flagstaff\, AZ\, 86004\, United States
CATEGORIES:Health Promotions,Wellness Center
END:VEVENT
BEGIN:VEVENT
DTSTART;TZID=UTC:20230405T170000
DTEND;TZID=UTC:20230405T180000
DTSTAMP:20260425T152122
CREATED:20230331T174354Z
LAST-MODIFIED:20230331T175419Z
UID:8935-1680714000-1680717600@nacainc.org
SUMMARY:L.I.F.E. Beading Circle
DESCRIPTION:Register here
URL:https://nacainc.org/event/l-i-f-e-beading-circle/2023-04-05/
LOCATION:AZ
CATEGORIES:Family Health Center,Health Promotions,L.I.F.E Program,Native Connections,Pathways,Reach ur Life,Supportive Services,Wellness Center
END:VEVENT
BEGIN:VEVENT
DTSTART;TZID=UTC:20230405T180000
DTEND;TZID=UTC:20230405T183000
DTSTAMP:20260425T152122
CREATED:20230331T173735Z
LAST-MODIFIED:20230331T173735Z
UID:8919-1680717600-1680719400@nacainc.org
SUMMARY:Intro to Yoga
DESCRIPTION:
URL:https://nacainc.org/event/intro-to-yoga-19/2023-04-05/
LOCATION:NACA Wellness Center\, 1500 E. Cedar Ave.\, Suite 52\, Flagstaff\, AZ\, 86004\, United States
CATEGORIES:Health Promotions,Wellness Center
END:VEVENT
END:VCALENDAR