BEGIN:VCALENDAR
VERSION:2.0
PRODID:-//NACA Inc. - Native Americans for Community Action - ECPv5.13.0//NONSGML v1.0//EN
CALSCALE:GREGORIAN
METHOD:PUBLISH
X-WR-CALNAME:NACA Inc. - Native Americans for Community Action
X-ORIGINAL-URL:https://nacainc.org
X-WR-CALDESC:Events for NACA Inc. - Native Americans for Community Action
REFRESH-INTERVAL;VALUE=DURATION:PT1H
X-Robots-Tag:noindex
X-PUBLISHED-TTL:PT1H
BEGIN:VTIMEZONE
TZID:UTC
BEGIN:STANDARD
TZOFFSETFROM:+0000
TZOFFSETTO:+0000
TZNAME:UTC
DTSTART:20230101T000000
END:STANDARD
END:VTIMEZONE
BEGIN:VEVENT
DTSTART;TZID=UTC:20230427T173000
DTEND;TZID=UTC:20230427T183000
DTSTAMP:20260425T190952
CREATED:20230331T174741Z
LAST-MODIFIED:20230501T154417Z
UID:8942-1682616600-1682620200@nacainc.org
SUMMARY:Run for Renewal Sacred Mountain Prayer Run training program
DESCRIPTION:Virtual options available! Register here
URL:https://nacainc.org/event/couch-to-5k-sacred-mountain-prayer-run-training-program/2023-04-27/
LOCATION:NACA Wellness Center\, 1500 E. Cedar Ave.\, Suite 52\, Flagstaff\, AZ\, 86004\, United States
CATEGORIES:Health Promotions,Wellness Center
END:VEVENT
END:VCALENDAR