BEGIN:VCALENDAR
VERSION:2.0
PRODID:-//NACA Inc. - Native Americans for Community Action - ECPv5.13.0//NONSGML v1.0//EN
CALSCALE:GREGORIAN
METHOD:PUBLISH
X-WR-CALNAME:NACA Inc. - Native Americans for Community Action
X-ORIGINAL-URL:https://nacainc.org
X-WR-CALDESC:Events for NACA Inc. - Native Americans for Community Action
REFRESH-INTERVAL;VALUE=DURATION:PT1H
X-Robots-Tag:noindex
X-PUBLISHED-TTL:PT1H
BEGIN:VTIMEZONE
TZID:UTC
BEGIN:STANDARD
TZOFFSETFROM:+0000
TZOFFSETTO:+0000
TZNAME:UTC
DTSTART:20230101T000000
END:STANDARD
END:VTIMEZONE
BEGIN:VEVENT
DTSTART;TZID=UTC:20231206T080000
DTEND;TZID=UTC:20231206T170000
DTSTAMP:20260424T221640
CREATED:20231211T164609Z
LAST-MODIFIED:20231211T164609Z
UID:10891-1701849600-1701882000@nacainc.org
SUMMARY:Step
DESCRIPTION:
URL:https://nacainc.org/event/step-18/2023-12-06/
LOCATION:NACA Wellness Center\, 1500 E. Cedar Ave.\, Suite 52\, Flagstaff\, AZ\, 86004\, United States
CATEGORIES:Family Health Center,Health Promotions,L.I.F.E Program,Wellness Center
END:VEVENT
END:VCALENDAR