BEGIN:VCALENDAR
VERSION:2.0
PRODID:-//NACA Inc. - Native Americans for Community Action - ECPv5.13.0//NONSGML v1.0//EN
CALSCALE:GREGORIAN
METHOD:PUBLISH
X-WR-CALNAME:NACA Inc. - Native Americans for Community Action
X-ORIGINAL-URL:https://nacainc.org
X-WR-CALDESC:Events for NACA Inc. - Native Americans for Community Action
REFRESH-INTERVAL;VALUE=DURATION:PT1H
X-Robots-Tag:noindex
X-PUBLISHED-TTL:PT1H
BEGIN:VTIMEZONE
TZID:UTC
BEGIN:STANDARD
TZOFFSETFROM:+0000
TZOFFSETTO:+0000
TZNAME:UTC
DTSTART:20280101T000000
END:STANDARD
END:VTIMEZONE
BEGIN:VEVENT
DTSTART;TZID=UTC:20280418T150000
DTEND;TZID=UTC:20280418T160000
DTSTAMP:20260421T030944
CREATED:20210628T203054Z
LAST-MODIFIED:20210628T203054Z
UID:17341-1839682800-1839686400@nacainc.org
SUMMARY:Early Recovery
DESCRIPTION:
URL:https://nacainc.org/event/early-recovery/2028-04-18/
CATEGORIES:Substance Abuse
END:VEVENT
BEGIN:VEVENT
DTSTART;TZID=UTC:20280418T160000
DTEND;TZID=UTC:20280418T170000
DTSTAMP:20260421T030944
CREATED:20210628T200143Z
LAST-MODIFIED:20210628T200143Z
UID:17339-1839686400-1839690000@nacainc.org
SUMMARY:Domestic Violence Group #1
DESCRIPTION:
URL:https://nacainc.org/event/domestic-violence-group-1/2028-04-18/
CATEGORIES:Extended Services
END:VEVENT
BEGIN:VEVENT
DTSTART;TZID=UTC:20280418T173000
DTEND;TZID=UTC:20280418T183000
DTSTAMP:20260421T030944
CREATED:20210628T203848Z
LAST-MODIFIED:20210628T203848Z
UID:17342-1839691800-1839695400@nacainc.org
SUMMARY:Relapse Prevention
DESCRIPTION:
URL:https://nacainc.org/event/relapse-prevention-2/2028-04-18/
CATEGORIES:Substance Abuse
END:VEVENT
BEGIN:VEVENT
DTSTART;TZID=UTC:20280419T090000
DTEND;TZID=UTC:20280419T100000
DTSTAMP:20260421T030944
CREATED:20210628T200700Z
LAST-MODIFIED:20210628T200700Z
UID:17344-1839747600-1839751200@nacainc.org
SUMMARY:Domestic Violence Group #3
DESCRIPTION:
URL:https://nacainc.org/event/domestic-violence-group-3/2028-04-19/
CATEGORIES:Extended Services
END:VEVENT
BEGIN:VEVENT
DTSTART;TZID=UTC:20280419T150000
DTEND;TZID=UTC:20280419T160000
DTSTAMP:20260421T030944
CREATED:20210628T203054Z
LAST-MODIFIED:20210628T203054Z
UID:17346-1839769200-1839772800@nacainc.org
SUMMARY:Early Recovery
DESCRIPTION:
URL:https://nacainc.org/event/early-recovery/2028-04-19/
CATEGORIES:Substance Abuse
END:VEVENT
BEGIN:VEVENT
DTSTART;TZID=UTC:20280419T160000
DTEND;TZID=UTC:20280419T170000
DTSTAMP:20260421T030944
CREATED:20210628T200143Z
LAST-MODIFIED:20210628T200143Z
UID:17343-1839772800-1839776400@nacainc.org
SUMMARY:Domestic Violence Group #1
DESCRIPTION:
URL:https://nacainc.org/event/domestic-violence-group-1/2028-04-19/
CATEGORIES:Extended Services
END:VEVENT
BEGIN:VEVENT
DTSTART;TZID=UTC:20280419T173000
DTEND;TZID=UTC:20280419T183000
DTSTAMP:20260421T030944
CREATED:20210628T201032Z
LAST-MODIFIED:20210628T201032Z
UID:17345-1839778200-1839781800@nacainc.org
SUMMARY:Talking Circle
DESCRIPTION:
URL:https://nacainc.org/event/talking-circle/2028-04-19/
CATEGORIES:Extended Services
END:VEVENT
END:VCALENDAR